BEGIN:VCALENDAR
VERSION:2.0
PRODID:-// - ECPv6.15.20//NONSGML v1.0//EN
CALSCALE:GREGORIAN
METHOD:PUBLISH
X-ORIGINAL-URL:https://www.neuharlingersiel.de
X-WR-CALDESC:Veranstaltungen für 
REFRESH-INTERVAL;VALUE=DURATION:PT1H
X-Robots-Tag:noindex
X-PUBLISHED-TTL:PT1H
BEGIN:VTIMEZONE
TZID:Europe/Berlin
BEGIN:DAYLIGHT
TZOFFSETFROM:+0100
TZOFFSETTO:+0200
TZNAME:CEST
DTSTART:20250330T010000
END:DAYLIGHT
BEGIN:STANDARD
TZOFFSETFROM:+0200
TZOFFSETTO:+0100
TZNAME:CET
DTSTART:20251026T010000
END:STANDARD
BEGIN:DAYLIGHT
TZOFFSETFROM:+0100
TZOFFSETTO:+0200
TZNAME:CEST
DTSTART:20260329T010000
END:DAYLIGHT
BEGIN:STANDARD
TZOFFSETFROM:+0200
TZOFFSETTO:+0100
TZNAME:CET
DTSTART:20261025T010000
END:STANDARD
BEGIN:DAYLIGHT
TZOFFSETFROM:+0100
TZOFFSETTO:+0200
TZNAME:CEST
DTSTART:20270328T010000
END:DAYLIGHT
BEGIN:STANDARD
TZOFFSETFROM:+0200
TZOFFSETTO:+0100
TZNAME:CET
DTSTART:20271031T010000
END:STANDARD
END:VTIMEZONE
BEGIN:VEVENT
DTSTART;TZID=Europe/Berlin:20260521T153000
DTEND;TZID=Europe/Berlin:20260521T170000
DTSTAMP:20260424T134219
CREATED:20260421T135125Z
LAST-MODIFIED:20260422T104606Z
UID:10015256-1779377400-1779382800@www.neuharlingersiel.de
SUMMARY:Die Salzwiese – Lebensraum zwischen Land und Meer
DESCRIPTION:Entdecken Sie in einer kleinen Gruppe die Salzwiese\, als einen faszinierenden Lebensraum im UNESCO Weltnaturerbe Wattenmeer. Erfahren Sie bei dieser etwa 1\,5- stündigen Führung von der Gärtnerin und Nationalparkführerin Inga Kühner welche erstaunlichen Anpassungen Pflanzen und Tiere an Salz\, Wind und Wasser entwickelt haben und welche Rolle Salzwiesen für den Küstenschutz spielen. \nDie Führung findet im tidebeeinflussten Gebiet statt. Bitte festes Schuhwerk und wetterangepasste Kleidung tragen – der Untergrund ist uneben und teils sehr weich. \n  \n  \nZielgruppe: Erwachsene und Jugendliche\nGruppengröße: 20 Personen\nTreffpunkt: Oben auf dem Deich-/Strandaufgang Strandhotel\nPreis: 13\,00 Euro pro Person
URL:https://www.neuharlingersiel.de/veranstaltung/die-salzwiese-lebensraum-zwischen-land-und-meer/2026-05-21/
LOCATION:Salzwiesen\, Rodelstrecke Deich\, Neuharlingersiel\, 26427\, Deutschland
CATEGORIES:Ausflüge und Führungen,Natur
ATTACH;FMTTYPE=image/jpeg:https://www.neuharlingersiel.de/wp-content/uploads/2026/04/Die-Salzwiese-Lebensraum-zwischen-Land-und-Meer.jpg
GEO:53.700262871405;7.6928933176912
X-APPLE-STRUCTURED-LOCATION;VALUE=URI;X-ADDRESS=Salzwiesen Rodelstrecke Deich Neuharlingersiel 26427 Deutschland;X-APPLE-RADIUS=500;X-TITLE=Rodelstrecke Deich:geo:7.6928933176912,53.700262871405
END:VEVENT
BEGIN:VEVENT
DTSTART;TZID=Europe/Berlin:20260602T153000
DTEND;TZID=Europe/Berlin:20260602T170000
DTSTAMP:20260424T134219
CREATED:20260421T135125Z
LAST-MODIFIED:20260422T104606Z
UID:10015311-1780414200-1780419600@www.neuharlingersiel.de
SUMMARY:Die Salzwiese – Lebensraum zwischen Land und Meer
DESCRIPTION:Entdecken Sie in einer kleinen Gruppe die Salzwiese\, als einen faszinierenden Lebensraum im UNESCO Weltnaturerbe Wattenmeer. Erfahren Sie bei dieser etwa 1\,5- stündigen Führung von der Gärtnerin und Nationalparkführerin Inga Kühner welche erstaunlichen Anpassungen Pflanzen und Tiere an Salz\, Wind und Wasser entwickelt haben und welche Rolle Salzwiesen für den Küstenschutz spielen. \nDie Führung findet im tidebeeinflussten Gebiet statt. Bitte festes Schuhwerk und wetterangepasste Kleidung tragen – der Untergrund ist uneben und teils sehr weich. \n  \n  \nZielgruppe: Erwachsene und Jugendliche\nGruppengröße: 20 Personen\nTreffpunkt: Oben auf dem Deich-/Strandaufgang Strandhotel\nPreis: 13\,00 Euro pro Person
URL:https://www.neuharlingersiel.de/veranstaltung/die-salzwiese-lebensraum-zwischen-land-und-meer/2026-06-02/
LOCATION:Salzwiesen\, Rodelstrecke Deich\, Neuharlingersiel\, 26427\, Deutschland
CATEGORIES:Ausflüge und Führungen,Natur
ATTACH;FMTTYPE=image/jpeg:https://www.neuharlingersiel.de/wp-content/uploads/2026/04/Die-Salzwiese-Lebensraum-zwischen-Land-und-Meer.jpg
GEO:53.700262871405;7.6928933176912
X-APPLE-STRUCTURED-LOCATION;VALUE=URI;X-ADDRESS=Salzwiesen Rodelstrecke Deich Neuharlingersiel 26427 Deutschland;X-APPLE-RADIUS=500;X-TITLE=Rodelstrecke Deich:geo:7.6928933176912,53.700262871405
END:VEVENT
BEGIN:VEVENT
DTSTART;TZID=Europe/Berlin:20260616T153000
DTEND;TZID=Europe/Berlin:20260616T170000
DTSTAMP:20260424T134219
CREATED:20260421T135125Z
LAST-MODIFIED:20260422T104606Z
UID:10015312-1781623800-1781629200@www.neuharlingersiel.de
SUMMARY:Die Salzwiese – Lebensraum zwischen Land und Meer
DESCRIPTION:Entdecken Sie in einer kleinen Gruppe die Salzwiese\, als einen faszinierenden Lebensraum im UNESCO Weltnaturerbe Wattenmeer. Erfahren Sie bei dieser etwa 1\,5- stündigen Führung von der Gärtnerin und Nationalparkführerin Inga Kühner welche erstaunlichen Anpassungen Pflanzen und Tiere an Salz\, Wind und Wasser entwickelt haben und welche Rolle Salzwiesen für den Küstenschutz spielen. \nDie Führung findet im tidebeeinflussten Gebiet statt. Bitte festes Schuhwerk und wetterangepasste Kleidung tragen – der Untergrund ist uneben und teils sehr weich. \n  \n  \nZielgruppe: Erwachsene und Jugendliche\nGruppengröße: 20 Personen\nTreffpunkt: Oben auf dem Deich-/Strandaufgang Strandhotel\nPreis: 13\,00 Euro pro Person
URL:https://www.neuharlingersiel.de/veranstaltung/die-salzwiese-lebensraum-zwischen-land-und-meer/2026-06-16/
LOCATION:Salzwiesen\, Rodelstrecke Deich\, Neuharlingersiel\, 26427\, Deutschland
CATEGORIES:Ausflüge und Führungen,Natur
ATTACH;FMTTYPE=image/jpeg:https://www.neuharlingersiel.de/wp-content/uploads/2026/04/Die-Salzwiese-Lebensraum-zwischen-Land-und-Meer.jpg
GEO:53.700262871405;7.6928933176912
X-APPLE-STRUCTURED-LOCATION;VALUE=URI;X-ADDRESS=Salzwiesen Rodelstrecke Deich Neuharlingersiel 26427 Deutschland;X-APPLE-RADIUS=500;X-TITLE=Rodelstrecke Deich:geo:7.6928933176912,53.700262871405
END:VEVENT
BEGIN:VEVENT
DTSTART;TZID=Europe/Berlin:20260714T150000
DTEND;TZID=Europe/Berlin:20260714T163000
DTSTAMP:20260424T134219
CREATED:20260421T135125Z
LAST-MODIFIED:20260422T104606Z
UID:10015318-1784041200-1784046600@www.neuharlingersiel.de
SUMMARY:Die Salzwiese – Lebensraum zwischen Land und Meer
DESCRIPTION:Entdecken Sie in einer kleinen Gruppe die Salzwiese\, als einen faszinierenden Lebensraum im UNESCO Weltnaturerbe Wattenmeer. Erfahren Sie bei dieser etwa 1\,5- stündigen Führung von der Gärtnerin und Nationalparkführerin Inga Kühner welche erstaunlichen Anpassungen Pflanzen und Tiere an Salz\, Wind und Wasser entwickelt haben und welche Rolle Salzwiesen für den Küstenschutz spielen. \nDie Führung findet im tidebeeinflussten Gebiet statt. Bitte festes Schuhwerk und wetterangepasste Kleidung tragen – der Untergrund ist uneben und teils sehr weich. \n  \n  \nZielgruppe: Erwachsene und Jugendliche\nGruppengröße: 20 Personen\nTreffpunkt: Oben auf dem Deich-/Strandaufgang Strandhotel\nPreis: 13\,00 Euro pro Person
URL:https://www.neuharlingersiel.de/veranstaltung/die-salzwiese-lebensraum-zwischen-land-und-meer/2026-07-14/
LOCATION:Salzwiesen\, Rodelstrecke Deich\, Neuharlingersiel\, 26427\, Deutschland
CATEGORIES:Ausflüge und Führungen,Natur
ATTACH;FMTTYPE=image/jpeg:https://www.neuharlingersiel.de/wp-content/uploads/2026/04/Die-Salzwiese-Lebensraum-zwischen-Land-und-Meer.jpg
GEO:53.700262871405;7.6928933176912
X-APPLE-STRUCTURED-LOCATION;VALUE=URI;X-ADDRESS=Salzwiesen Rodelstrecke Deich Neuharlingersiel 26427 Deutschland;X-APPLE-RADIUS=500;X-TITLE=Rodelstrecke Deich:geo:7.6928933176912,53.700262871405
END:VEVENT
BEGIN:VEVENT
DTSTART;TZID=Europe/Berlin:20260721T150000
DTEND;TZID=Europe/Berlin:20260721T163000
DTSTAMP:20260424T134219
CREATED:20260421T135125Z
LAST-MODIFIED:20260422T104606Z
UID:10015319-1784646000-1784651400@www.neuharlingersiel.de
SUMMARY:Die Salzwiese – Lebensraum zwischen Land und Meer
DESCRIPTION:Entdecken Sie in einer kleinen Gruppe die Salzwiese\, als einen faszinierenden Lebensraum im UNESCO Weltnaturerbe Wattenmeer. Erfahren Sie bei dieser etwa 1\,5- stündigen Führung von der Gärtnerin und Nationalparkführerin Inga Kühner welche erstaunlichen Anpassungen Pflanzen und Tiere an Salz\, Wind und Wasser entwickelt haben und welche Rolle Salzwiesen für den Küstenschutz spielen. \nDie Führung findet im tidebeeinflussten Gebiet statt. Bitte festes Schuhwerk und wetterangepasste Kleidung tragen – der Untergrund ist uneben und teils sehr weich. \n  \n  \nZielgruppe: Erwachsene und Jugendliche\nGruppengröße: 20 Personen\nTreffpunkt: Oben auf dem Deich-/Strandaufgang Strandhotel\nPreis: 13\,00 Euro pro Person
URL:https://www.neuharlingersiel.de/veranstaltung/die-salzwiese-lebensraum-zwischen-land-und-meer/2026-07-21/
LOCATION:Salzwiesen\, Rodelstrecke Deich\, Neuharlingersiel\, 26427\, Deutschland
CATEGORIES:Ausflüge und Führungen,Natur
ATTACH;FMTTYPE=image/jpeg:https://www.neuharlingersiel.de/wp-content/uploads/2026/04/Die-Salzwiese-Lebensraum-zwischen-Land-und-Meer.jpg
GEO:53.700262871405;7.6928933176912
X-APPLE-STRUCTURED-LOCATION;VALUE=URI;X-ADDRESS=Salzwiesen Rodelstrecke Deich Neuharlingersiel 26427 Deutschland;X-APPLE-RADIUS=500;X-TITLE=Rodelstrecke Deich:geo:7.6928933176912,53.700262871405
END:VEVENT
BEGIN:VEVENT
DTSTART;TZID=Europe/Berlin:20260818T153000
DTEND;TZID=Europe/Berlin:20260818T170000
DTSTAMP:20260424T134219
CREATED:20260421T135125Z
LAST-MODIFIED:20260422T104606Z
UID:10015315-1787067000-1787072400@www.neuharlingersiel.de
SUMMARY:Die Salzwiese – Lebensraum zwischen Land und Meer
DESCRIPTION:Entdecken Sie in einer kleinen Gruppe die Salzwiese\, als einen faszinierenden Lebensraum im UNESCO Weltnaturerbe Wattenmeer. Erfahren Sie bei dieser etwa 1\,5- stündigen Führung von der Gärtnerin und Nationalparkführerin Inga Kühner welche erstaunlichen Anpassungen Pflanzen und Tiere an Salz\, Wind und Wasser entwickelt haben und welche Rolle Salzwiesen für den Küstenschutz spielen. \nDie Führung findet im tidebeeinflussten Gebiet statt. Bitte festes Schuhwerk und wetterangepasste Kleidung tragen – der Untergrund ist uneben und teils sehr weich. \n  \n  \nZielgruppe: Erwachsene und Jugendliche\nGruppengröße: 20 Personen\nTreffpunkt: Oben auf dem Deich-/Strandaufgang Strandhotel\nPreis: 13\,00 Euro pro Person
URL:https://www.neuharlingersiel.de/veranstaltung/die-salzwiese-lebensraum-zwischen-land-und-meer/2026-08-18/
LOCATION:Salzwiesen\, Rodelstrecke Deich\, Neuharlingersiel\, 26427\, Deutschland
CATEGORIES:Ausflüge und Führungen,Natur
ATTACH;FMTTYPE=image/jpeg:https://www.neuharlingersiel.de/wp-content/uploads/2026/04/Die-Salzwiese-Lebensraum-zwischen-Land-und-Meer.jpg
GEO:53.700262871405;7.6928933176912
X-APPLE-STRUCTURED-LOCATION;VALUE=URI;X-ADDRESS=Salzwiesen Rodelstrecke Deich Neuharlingersiel 26427 Deutschland;X-APPLE-RADIUS=500;X-TITLE=Rodelstrecke Deich:geo:7.6928933176912,53.700262871405
END:VEVENT
BEGIN:VEVENT
DTSTART;TZID=Europe/Berlin:20260901T153000
DTEND;TZID=Europe/Berlin:20260901T170000
DTSTAMP:20260424T134219
CREATED:20260421T135125Z
LAST-MODIFIED:20260422T104606Z
UID:10015316-1788276600-1788282000@www.neuharlingersiel.de
SUMMARY:Die Salzwiese – Lebensraum zwischen Land und Meer
DESCRIPTION:Entdecken Sie in einer kleinen Gruppe die Salzwiese\, als einen faszinierenden Lebensraum im UNESCO Weltnaturerbe Wattenmeer. Erfahren Sie bei dieser etwa 1\,5- stündigen Führung von der Gärtnerin und Nationalparkführerin Inga Kühner welche erstaunlichen Anpassungen Pflanzen und Tiere an Salz\, Wind und Wasser entwickelt haben und welche Rolle Salzwiesen für den Küstenschutz spielen. \nDie Führung findet im tidebeeinflussten Gebiet statt. Bitte festes Schuhwerk und wetterangepasste Kleidung tragen – der Untergrund ist uneben und teils sehr weich. \n  \n  \nZielgruppe: Erwachsene und Jugendliche\nGruppengröße: 20 Personen\nTreffpunkt: Oben auf dem Deich-/Strandaufgang Strandhotel\nPreis: 13\,00 Euro pro Person
URL:https://www.neuharlingersiel.de/veranstaltung/die-salzwiese-lebensraum-zwischen-land-und-meer/2026-09-01/
LOCATION:Salzwiesen\, Rodelstrecke Deich\, Neuharlingersiel\, 26427\, Deutschland
CATEGORIES:Ausflüge und Führungen,Natur
ATTACH;FMTTYPE=image/jpeg:https://www.neuharlingersiel.de/wp-content/uploads/2026/04/Die-Salzwiese-Lebensraum-zwischen-Land-und-Meer.jpg
GEO:53.700262871405;7.6928933176912
X-APPLE-STRUCTURED-LOCATION;VALUE=URI;X-ADDRESS=Salzwiesen Rodelstrecke Deich Neuharlingersiel 26427 Deutschland;X-APPLE-RADIUS=500;X-TITLE=Rodelstrecke Deich:geo:7.6928933176912,53.700262871405
END:VEVENT
BEGIN:VEVENT
DTSTART;TZID=Europe/Berlin:20260929T153000
DTEND;TZID=Europe/Berlin:20260929T170000
DTSTAMP:20260424T134219
CREATED:20260421T135125Z
LAST-MODIFIED:20260422T104606Z
UID:10015317-1790695800-1790701200@www.neuharlingersiel.de
SUMMARY:Die Salzwiese – Lebensraum zwischen Land und Meer
DESCRIPTION:Entdecken Sie in einer kleinen Gruppe die Salzwiese\, als einen faszinierenden Lebensraum im UNESCO Weltnaturerbe Wattenmeer. Erfahren Sie bei dieser etwa 1\,5- stündigen Führung von der Gärtnerin und Nationalparkführerin Inga Kühner welche erstaunlichen Anpassungen Pflanzen und Tiere an Salz\, Wind und Wasser entwickelt haben und welche Rolle Salzwiesen für den Küstenschutz spielen. \nDie Führung findet im tidebeeinflussten Gebiet statt. Bitte festes Schuhwerk und wetterangepasste Kleidung tragen – der Untergrund ist uneben und teils sehr weich. \n  \n  \nZielgruppe: Erwachsene und Jugendliche\nGruppengröße: 20 Personen\nTreffpunkt: Oben auf dem Deich-/Strandaufgang Strandhotel\nPreis: 13\,00 Euro pro Person
URL:https://www.neuharlingersiel.de/veranstaltung/die-salzwiese-lebensraum-zwischen-land-und-meer/2026-09-29/
LOCATION:Salzwiesen\, Rodelstrecke Deich\, Neuharlingersiel\, 26427\, Deutschland
CATEGORIES:Ausflüge und Führungen,Natur
ATTACH;FMTTYPE=image/jpeg:https://www.neuharlingersiel.de/wp-content/uploads/2026/04/Die-Salzwiese-Lebensraum-zwischen-Land-und-Meer.jpg
GEO:53.700262871405;7.6928933176912
X-APPLE-STRUCTURED-LOCATION;VALUE=URI;X-ADDRESS=Salzwiesen Rodelstrecke Deich Neuharlingersiel 26427 Deutschland;X-APPLE-RADIUS=500;X-TITLE=Rodelstrecke Deich:geo:7.6928933176912,53.700262871405
END:VEVENT
END:VCALENDAR