BEGIN:VCALENDAR
VERSION:2.0
PRODID:-// - ECPv6.15.20//NONSGML v1.0//EN
CALSCALE:GREGORIAN
METHOD:PUBLISH
X-ORIGINAL-URL:https://www.neuharlingersiel.de
X-WR-CALDESC:Veranstaltungen für 
REFRESH-INTERVAL;VALUE=DURATION:PT1H
X-Robots-Tag:noindex
X-PUBLISHED-TTL:PT1H
BEGIN:VTIMEZONE
TZID:Europe/Berlin
BEGIN:DAYLIGHT
TZOFFSETFROM:+0100
TZOFFSETTO:+0200
TZNAME:CEST
DTSTART:20240331T010000
END:DAYLIGHT
BEGIN:STANDARD
TZOFFSETFROM:+0200
TZOFFSETTO:+0100
TZNAME:CET
DTSTART:20241027T010000
END:STANDARD
BEGIN:DAYLIGHT
TZOFFSETFROM:+0100
TZOFFSETTO:+0200
TZNAME:CEST
DTSTART:20250330T010000
END:DAYLIGHT
BEGIN:STANDARD
TZOFFSETFROM:+0200
TZOFFSETTO:+0100
TZNAME:CET
DTSTART:20251026T010000
END:STANDARD
BEGIN:DAYLIGHT
TZOFFSETFROM:+0100
TZOFFSETTO:+0200
TZNAME:CEST
DTSTART:20260329T010000
END:DAYLIGHT
BEGIN:STANDARD
TZOFFSETFROM:+0200
TZOFFSETTO:+0100
TZNAME:CET
DTSTART:20261025T010000
END:STANDARD
END:VTIMEZONE
BEGIN:VEVENT
DTSTART;TZID=Europe/Berlin:20250720T110000
DTEND;TZID=Europe/Berlin:20250720T160000
DTSTAMP:20260423T121534
CREATED:20250717T085702Z
LAST-MODIFIED:20250717T090149Z
UID:10011546-1753009200-1753027200@www.neuharlingersiel.de
SUMMARY:Siedlungsflohmarkt
DESCRIPTION:Der 2. Siedlungsflohmarkt der Riff-Siedlung bietet allen Trödel-Schatzsuchern ein tolles Angebot aus Nützlichem\, Kreativem\, Witzigem\, schon immer Gesuchtem und noch vielem mehr an Attraktionen.
URL:https://www.neuharlingersiel.de/veranstaltung/siedlungsflohmarkt-2/
LOCATION:Riff-Siedlung Neuharlingersiel\, Norder-\, Süder und Westerriff\, Neuharlingersiel\, 26427\, Deutschland
CATEGORIES:Feste und Märkte,Kinder
ATTACH;FMTTYPE=image/jpeg:https://www.neuharlingersiel.de/wp-content/uploads/2025/07/Siedlungs-Flohmarkt-2025.jpg
END:VEVENT
END:VCALENDAR