BEGIN:VCALENDAR
VERSION:2.0
PRODID:-// - ECPv6.15.20//NONSGML v1.0//EN
CALSCALE:GREGORIAN
METHOD:PUBLISH
X-ORIGINAL-URL:https://www.neuharlingersiel.de
X-WR-CALDESC:Veranstaltungen für 
REFRESH-INTERVAL;VALUE=DURATION:PT1H
X-Robots-Tag:noindex
X-PUBLISHED-TTL:PT1H
BEGIN:VTIMEZONE
TZID:Europe/Berlin
BEGIN:DAYLIGHT
TZOFFSETFROM:+0100
TZOFFSETTO:+0200
TZNAME:CEST
DTSTART:20240331T010000
END:DAYLIGHT
BEGIN:STANDARD
TZOFFSETFROM:+0200
TZOFFSETTO:+0100
TZNAME:CET
DTSTART:20241027T010000
END:STANDARD
BEGIN:DAYLIGHT
TZOFFSETFROM:+0100
TZOFFSETTO:+0200
TZNAME:CEST
DTSTART:20250330T010000
END:DAYLIGHT
BEGIN:STANDARD
TZOFFSETFROM:+0200
TZOFFSETTO:+0100
TZNAME:CET
DTSTART:20251026T010000
END:STANDARD
BEGIN:DAYLIGHT
TZOFFSETFROM:+0100
TZOFFSETTO:+0200
TZNAME:CEST
DTSTART:20260329T010000
END:DAYLIGHT
BEGIN:STANDARD
TZOFFSETFROM:+0200
TZOFFSETTO:+0100
TZNAME:CET
DTSTART:20261025T010000
END:STANDARD
BEGIN:DAYLIGHT
TZOFFSETFROM:+0100
TZOFFSETTO:+0200
TZNAME:CEST
DTSTART:20270328T010000
END:DAYLIGHT
BEGIN:STANDARD
TZOFFSETFROM:+0200
TZOFFSETTO:+0100
TZNAME:CET
DTSTART:20271031T010000
END:STANDARD
END:VTIMEZONE
BEGIN:VEVENT
DTSTART;TZID=Europe/Berlin:20260401T170000
DTEND;TZID=Europe/Berlin:20260401T180000
DTSTAMP:20260425T153732
CREATED:20260326T134025Z
LAST-MODIFIED:20260331T151626Z
UID:10015165-1775062800-1775066400@www.neuharlingersiel.de
SUMMARY:Vernissage am Pavillon
DESCRIPTION:Am Mittwoch\, den 01. April 2026\, um 17.00 Uhr laden wir Sie herzlich zur Eröffnung der Kunstausstellung der beiden Oldenburger Künstlerinnen Regina Swaczinna und Dagmar Winzer am Sielhof-Pavillon in Neuharlingersiel ein. \nDie Vernissage ist der Auftakt der sechswöchigen Ausstellung im Pavillon\, welche das kulturelle Angebot Neuharlingersiels bis Mitte Mai um dreidimensionale Kunstwerke bereichern wird. Freuen Sie sich auf ausdrucksstarke Plastiken und Skulpturen aus Holz\, Ton und Bronze. \nDer Eintritt ist kostenfrei.
URL:https://www.neuharlingersiel.de/veranstaltung/vernissage-am-pavillon/
LOCATION:Pavillon im Sielhof-Park\, Bürgermeister-Dirksen-Platz 8\, Neuharlingersiel\, NIedersachsen\, 26427\, Deutschland
CATEGORIES:Kreativ und Kurse
ATTACH;FMTTYPE=image/jpeg:https://www.neuharlingersiel.de/wp-content/uploads/2026/03/Vernissage-Pavillion-Winzer-Swaczinna.jpg
ORGANIZER;CN="Kurverein Neuharlingersiel e.V.":MAILTO:info@neuharlingersiel.de
GEO:53.699199511025;7.7017334765701
X-APPLE-STRUCTURED-LOCATION;VALUE=URI;X-ADDRESS=Pavillon im Sielhof-Park Bürgermeister-Dirksen-Platz 8 Neuharlingersiel NIedersachsen 26427 Deutschland;X-APPLE-RADIUS=500;X-TITLE=Bürgermeister-Dirksen-Platz 8:geo:7.7017334765701,53.699199511025
END:VEVENT
BEGIN:VEVENT
DTSTART;TZID=Europe/Berlin:20250719T190000
DTEND;TZID=Europe/Berlin:20250719T210000
DTSTAMP:20260425T153732
CREATED:20250526T073552Z
LAST-MODIFIED:20250714T103158Z
UID:10010746-1752951600-1752958800@www.neuharlingersiel.de
SUMMARY:Konzert Gernot Schulz und Fabiane Buchheister
DESCRIPTION:Erleben Sie einen unvergesslichen Abend mit Gernot Schulz und Fabiane Buchheister. \nAm Samstag\, den 19. Juli 2025\, verwandelt sich der wunderschöne Sielhof-Park in eine musikalische Oase\, die Sie begeistern wird. Lassen Sie sich von den mitreißenden Klängen und der einzigartigen Atmosphäre verzaubern. \nGenießen Sie erfrischende Getränke\, während Sie die großartigen Darbietungen der beiden Künstler verfolgen. \nKommen Sie vorbei\, bringen Sie Freunde mit und verbringen Sie gemeinsam einen schönen Abend. \n  \nBei schlechtem Wetter findet diese Veranstaltung im Kursaal statt. \nAnmeldung: Es ist keine Anmeldung erforderlich\nPreise: kostenfrei\nEinlass: Ab 18.30 Uhr
URL:https://www.neuharlingersiel.de/veranstaltung/konzert-gernot-schulz-und-fabiane-buchheister/
LOCATION:Pavillon im Sielhof-Park\, Bürgermeister-Dirksen-Platz 8\, Neuharlingersiel\, NIedersachsen\, 26427\, Deutschland
CATEGORIES:Kabarett, Comedy, Theater,Konzerte und Musik
ATTACH;FMTTYPE=image/jpeg:https://www.neuharlingersiel.de/wp-content/uploads/2025/05/Konzertabend-mit-Gernot-Schulz-und-Fabiane-Buchheister.jpg
ORGANIZER;CN="Kurverein Neuharlingersiel e.V.":MAILTO:info@neuharlingersiel.de
GEO:53.699199511025;7.7017334765701
X-APPLE-STRUCTURED-LOCATION;VALUE=URI;X-ADDRESS=Pavillon im Sielhof-Park Bürgermeister-Dirksen-Platz 8 Neuharlingersiel NIedersachsen 26427 Deutschland;X-APPLE-RADIUS=500;X-TITLE=Bürgermeister-Dirksen-Platz 8:geo:7.7017334765701,53.699199511025
END:VEVENT
END:VCALENDAR