BEGIN:VCALENDAR
VERSION:2.0
PRODID:-// - ECPv6.15.20//NONSGML v1.0//EN
CALSCALE:GREGORIAN
METHOD:PUBLISH
X-ORIGINAL-URL:https://www.neuharlingersiel.de
X-WR-CALDESC:Veranstaltungen für 
REFRESH-INTERVAL;VALUE=DURATION:PT1H
X-Robots-Tag:noindex
X-PUBLISHED-TTL:PT1H
BEGIN:VTIMEZONE
TZID:Europe/Berlin
BEGIN:DAYLIGHT
TZOFFSETFROM:+0100
TZOFFSETTO:+0200
TZNAME:CEST
DTSTART:20250330T010000
END:DAYLIGHT
BEGIN:STANDARD
TZOFFSETFROM:+0200
TZOFFSETTO:+0100
TZNAME:CET
DTSTART:20251026T010000
END:STANDARD
BEGIN:DAYLIGHT
TZOFFSETFROM:+0100
TZOFFSETTO:+0200
TZNAME:CEST
DTSTART:20260329T010000
END:DAYLIGHT
BEGIN:STANDARD
TZOFFSETFROM:+0200
TZOFFSETTO:+0100
TZNAME:CET
DTSTART:20261025T010000
END:STANDARD
BEGIN:DAYLIGHT
TZOFFSETFROM:+0100
TZOFFSETTO:+0200
TZNAME:CEST
DTSTART:20270328T010000
END:DAYLIGHT
BEGIN:STANDARD
TZOFFSETFROM:+0200
TZOFFSETTO:+0100
TZNAME:CET
DTSTART:20271031T010000
END:STANDARD
END:VTIMEZONE
BEGIN:VEVENT
DTSTART;TZID=Europe/Berlin:20260418T203000
DTEND;TZID=Europe/Berlin:20260418T223000
DTSTAMP:20260422T021832
CREATED:20250415T145200Z
LAST-MODIFIED:20260416T082527Z
UID:10014914-1776544200-1776551400@www.neuharlingersiel.de
SUMMARY:Sternenführung
DESCRIPTION:Wir begeben uns gemeinsam auf eine galaktische Reise zu den Sternen. Sie erfahren\, wie sie sich am Sternhimmel zurechtfinden und erleben\, wenn die Wetterbedingungen es zulassen\, einen funkelnden Sternhimmel. \nIm ersten Teil geht spielerisch und unterhaltsam Sterne\, Sonne\, Sonnensystem\, Planeten und Galaxien kennenzulernen. Der erste Teil findet noch im Warmen im Veranstaltungsraum statt. \nMit dem Wissen vorbereitet\, schreiten wir dann zum zweiten Teil und gehen zur Sternenbeobachtung nach draußen. Dabei laufen wir ein Stück in die Dunkelheit\, um so besser die Sterne beobachten zu können. (Bei bedecktem Himmel findet dann der zweite Teil in Form eines Vortrags statt). \nZum Schluss erfahren Sie noch Tipps\, um selber mit einfachen Mitteln den Sternenhimmel beobachten zu können und auch um etwas gegen Lichtverschmutzung zu tun. \nEs gibt auch noch eine kleine Überraschung. \nWichtige Information für die Teilnehmenden:\nDenken sie an wetterfeste\, warme Bekleidung und Schuhwerk \nBringen Sie sich gerne eine Sitzgelegenheit wie Campingstuhl\, Isomatte und etwas zum Zudecken mit. Falls vorhanden\, gerne ein Fernglas mitbringen. \nBei bedeckten Himmel oder sehr schlechtem Wetter findet die Veranstaltung komplett drinnen\, in Form eines Vortrages statt. \nEmpfohlenes Mindestalter wegen der späten Uhrzeit: 10 Jahre \nDie Veranstaltung ist barrierearm. \nAnmeldung: In der Tourist-Info\nTreffpunkt: Eingang Tourist-Info (Deichseite)\nDauer: Ca. 2 Stunden\nTeilnehmer: Mind. 10 Personen\, max. 20 Personen\nPreise: Kostenfreie Aktion im Rahmen der DarkSky Week
URL:https://www.neuharlingersiel.de/veranstaltung/sternenfuehrung/2026-04-18/
LOCATION:Neuharlingersiel und Umgebung\, Edo-Edzards-Straße 1\, Neuharlingersiel\, Niedersachsen\, 26427\, Deutschland
CATEGORIES:Ausflüge und Führungen,Natur
ATTACH;FMTTYPE=image/png:https://www.neuharlingersiel.de/wp-content/uploads/2025/04/Sternenfuehrung.png
END:VEVENT
BEGIN:VEVENT
DTSTART;TZID=Europe/Berlin:20260413T203000
DTEND;TZID=Europe/Berlin:20260413T223000
DTSTAMP:20260422T021832
CREATED:20250415T145200Z
LAST-MODIFIED:20260416T082527Z
UID:10010626-1776112200-1776119400@www.neuharlingersiel.de
SUMMARY:Sternenführung
DESCRIPTION:Wir begeben uns gemeinsam auf eine galaktische Reise zu den Sternen. Sie erfahren\, wie sie sich am Sternhimmel zurechtfinden und erleben\, wenn die Wetterbedingungen es zulassen\, einen funkelnden Sternhimmel. \nIm ersten Teil geht spielerisch und unterhaltsam Sterne\, Sonne\, Sonnensystem\, Planeten und Galaxien kennenzulernen. Der erste Teil findet noch im Warmen im Veranstaltungsraum statt. \nMit dem Wissen vorbereitet\, schreiten wir dann zum zweiten Teil und gehen zur Sternenbeobachtung nach draußen. Dabei laufen wir ein Stück in die Dunkelheit\, um so besser die Sterne beobachten zu können. (Bei bedecktem Himmel findet dann der zweite Teil in Form eines Vortrags statt). \nZum Schluss erfahren Sie noch Tipps\, um selber mit einfachen Mitteln den Sternenhimmel beobachten zu können und auch um etwas gegen Lichtverschmutzung zu tun. \nEs gibt auch noch eine kleine Überraschung. \nWichtige Information für die Teilnehmenden:\nDenken sie an wetterfeste\, warme Bekleidung und Schuhwerk \nBringen Sie sich gerne eine Sitzgelegenheit wie Campingstuhl\, Isomatte und etwas zum Zudecken mit. Falls vorhanden\, gerne ein Fernglas mitbringen. \nBei bedeckten Himmel oder sehr schlechtem Wetter findet die Veranstaltung komplett drinnen\, in Form eines Vortrages statt. \nEmpfohlenes Mindestalter wegen der späten Uhrzeit: 10 Jahre \nDie Veranstaltung ist barrierearm. \nAnmeldung: In der Tourist-Info\nTreffpunkt: Eingang Tourist-Info (Deichseite)\nDauer: Ca. 2 Stunden\nTeilnehmer: Mind. 10 Personen\, max. 20 Personen\nPreise: Kostenfreie Aktion im Rahmen der DarkSky Week
URL:https://www.neuharlingersiel.de/veranstaltung/sternenfuehrung/2026-04-13/
LOCATION:Neuharlingersiel und Umgebung\, Edo-Edzards-Straße 1\, Neuharlingersiel\, Niedersachsen\, 26427\, Deutschland
CATEGORIES:Ausflüge und Führungen,Natur
ATTACH;FMTTYPE=image/png:https://www.neuharlingersiel.de/wp-content/uploads/2025/04/Sternenfuehrung.png
END:VEVENT
END:VCALENDAR