BEGIN:VCALENDAR
VERSION:2.0
PRODID:-// - ECPv6.15.20//NONSGML v1.0//EN
CALSCALE:GREGORIAN
METHOD:PUBLISH
X-ORIGINAL-URL:https://www.neuharlingersiel.de
X-WR-CALDESC:Veranstaltungen für 
REFRESH-INTERVAL;VALUE=DURATION:PT1H
X-Robots-Tag:noindex
X-PUBLISHED-TTL:PT1H
BEGIN:VTIMEZONE
TZID:Europe/Berlin
BEGIN:DAYLIGHT
TZOFFSETFROM:+0100
TZOFFSETTO:+0200
TZNAME:CEST
DTSTART:20250330T010000
END:DAYLIGHT
BEGIN:STANDARD
TZOFFSETFROM:+0200
TZOFFSETTO:+0100
TZNAME:CET
DTSTART:20251026T010000
END:STANDARD
BEGIN:DAYLIGHT
TZOFFSETFROM:+0100
TZOFFSETTO:+0200
TZNAME:CEST
DTSTART:20260329T010000
END:DAYLIGHT
BEGIN:STANDARD
TZOFFSETFROM:+0200
TZOFFSETTO:+0100
TZNAME:CET
DTSTART:20261025T010000
END:STANDARD
BEGIN:DAYLIGHT
TZOFFSETFROM:+0100
TZOFFSETTO:+0200
TZNAME:CEST
DTSTART:20270328T010000
END:DAYLIGHT
BEGIN:STANDARD
TZOFFSETFROM:+0200
TZOFFSETTO:+0100
TZNAME:CET
DTSTART:20271031T010000
END:STANDARD
END:VTIMEZONE
BEGIN:VEVENT
DTSTART;TZID=Europe/Berlin:20260722T190000
DTEND;TZID=Europe/Berlin:20260722T230000
DTSTAMP:20260422T181731
CREATED:20240513T080953Z
LAST-MODIFIED:20260124T105821Z
UID:10005549-1784746800-1784761200@www.neuharlingersiel.de
SUMMARY:Sommernacht im BadeWerk
DESCRIPTION:Freuen Sie sich auf einen unvergesslichen Sommerabend im stimmungsvoll\nbeleuchteten Garten des Thalasso-Zentrums BadeWerk Neuharlingersiel.\nGenießen Sie Gegrilltes\, frische Salate\, kühle Getränke und lassen Sie sich von Musik und Showeinlagen unterhalten. \nSie haben auch die Möglichkeit\, in allen Bereichen des BadeWerk außerhalb des regulären Betriebs hinter die Kulissen zu blicken. Bei exklusiven Führungen entdecken Sie die Vielfalt unserer Sauna-\, Wellness-\, Kurmittel- und Fitnessbereiche. Ein besonderes Highlight: Bekleidete Showaufgüsse im Saunabereich.              \nWir freuen uns auf einen schönen Abend mit Ihnen.\nIhr Team des BadeWerk Neuharlingersiel \nEinlass ab 18.30 Uhr\, der Eintritt ist frei. \n 
URL:https://www.neuharlingersiel.de/veranstaltung/sommernacht-im-badewerk/
LOCATION:Thalasso-Zentrum BadeWerk Neuharlingersiel\, Edo-Edzards-Str. 1 \, Neuharlingersiel\, 26427
CATEGORIES:BadeWerk,Feste und Märkte,Highlights,Konzerte und Musik
ATTACH;FMTTYPE=image/jpeg:https://www.neuharlingersiel.de/wp-content/uploads/2024/05/Saunagarten-BadeWerk-Neuharlingersiel.jpg
ORGANIZER;CN="Thalasso-Zentrum BadeWerk Neuharlingersiel":MAILTO:badewerk@neuharlingersiel.de
END:VEVENT
END:VCALENDAR