BEGIN:VCALENDAR
VERSION:2.0
PRODID:-// - ECPv6.15.20//NONSGML v1.0//EN
CALSCALE:GREGORIAN
METHOD:PUBLISH
X-ORIGINAL-URL:https://www.neuharlingersiel.de
X-WR-CALDESC:Veranstaltungen für 
REFRESH-INTERVAL;VALUE=DURATION:PT1H
X-Robots-Tag:noindex
X-PUBLISHED-TTL:PT1H
BEGIN:VTIMEZONE
TZID:Europe/Berlin
BEGIN:DAYLIGHT
TZOFFSETFROM:+0100
TZOFFSETTO:+0200
TZNAME:CEST
DTSTART:20250330T010000
END:DAYLIGHT
BEGIN:STANDARD
TZOFFSETFROM:+0200
TZOFFSETTO:+0100
TZNAME:CET
DTSTART:20251026T010000
END:STANDARD
BEGIN:DAYLIGHT
TZOFFSETFROM:+0100
TZOFFSETTO:+0200
TZNAME:CEST
DTSTART:20260329T010000
END:DAYLIGHT
BEGIN:STANDARD
TZOFFSETFROM:+0200
TZOFFSETTO:+0100
TZNAME:CET
DTSTART:20261025T010000
END:STANDARD
BEGIN:DAYLIGHT
TZOFFSETFROM:+0100
TZOFFSETTO:+0200
TZNAME:CEST
DTSTART:20270328T010000
END:DAYLIGHT
BEGIN:STANDARD
TZOFFSETFROM:+0200
TZOFFSETTO:+0100
TZNAME:CET
DTSTART:20271031T010000
END:STANDARD
END:VTIMEZONE
BEGIN:VEVENT
DTSTART;TZID=Europe/Berlin:20260710T190000
DTEND;TZID=Europe/Berlin:20260710T210000
DTSTAMP:20260425T173720
CREATED:20260217T112318Z
LAST-MODIFIED:20260217T133530Z
UID:10014906-1783710000-1783717200@www.neuharlingersiel.de
SUMMARY:Gernot Schulz und Fabiane Buchheister „Klassik trifft Moderne“ - Konzert
DESCRIPTION:„Klassik trifft Moderne“ – Fabiane Buchheister (Gesang) und Gernot Schulz (Klavier/Gitarre) nehmen Sie mit auf eine Reise bekannter und beliebter Ohrwürmer aus Klassik\, Romantik\, Boogie-Woogie\, Bossa Nova\, Neoklassik\, Pop\, Rock\, Chanson und Filmmusik. \nGenießen Sie erfrischende Getränke\, während Sie die großartigen Darbietungen der beiden Künstler verfolgen. \nKommen Sie vorbei\, bringen Sie Freunde mit und verbringen Sie gemeinsam einen schönen Abend. \nBei schlechtem Wetter findet diese Veranstaltung im Kursaal statt. \nAnmeldung: Es ist keine Anmeldung erforderlich\nPreise: kostenfrei\nEinlass: Ab 18.30 Uhr
URL:https://www.neuharlingersiel.de/veranstaltung/gernot-schulz-und-fabiane-buchheister-klassik-trifft-moderne-konzert/
LOCATION:Pavillon im Sielhof-Park\, Bürgermeister-Dirksen-Platz 8\, Neuharlingersiel\, NIedersachsen\, 26427\, Deutschland
CATEGORIES:Highlights,Konzerte und Musik
ATTACH;FMTTYPE=image/jpeg:https://www.neuharlingersiel.de/wp-content/uploads/2026/02/Klassik-trifft-Moderne-Gernot-Schulz.jpg
ORGANIZER;CN="Kurverein Neuharlingersiel e.V.":MAILTO:info@neuharlingersiel.de
GEO:53.699199511025;7.7017334765701
X-APPLE-STRUCTURED-LOCATION;VALUE=URI;X-ADDRESS=Pavillon im Sielhof-Park Bürgermeister-Dirksen-Platz 8 Neuharlingersiel NIedersachsen 26427 Deutschland;X-APPLE-RADIUS=500;X-TITLE=Bürgermeister-Dirksen-Platz 8:geo:7.7017334765701,53.699199511025
END:VEVENT
BEGIN:VEVENT
DTSTART;TZID=Europe/Berlin:20260712T110000
DTEND;TZID=Europe/Berlin:20260712T123000
DTSTAMP:20260425T173720
CREATED:20260102T094907Z
LAST-MODIFIED:20260102T095204Z
UID:10012361-1783854000-1783859400@www.neuharlingersiel.de
SUMMARY:Hafenkonzerte
DESCRIPTION:Hafenkonzerte – Maritimes Flair und musikalischer Genuss in Neuharlingersiel. Jeden Sonntag in der Saison (April bis Oktober) finden am malerischen Kutterhafen in Neuharlingersiel die beliebten Hafenkonzerte statt. In der Konzertmuschel sorgen Chöre/Shanty-Chöre für beste Unterhaltung. \nMaritimes Liedgut und Seemannslieder wecken die Sehnsucht nach dem Meer und lassen die Herzen der Zuhörer höher schlagen. Ob Oldies\, Schlager oder moderne Hits – die musikalische Vielfalt der Hafenkonzerte bietet etwas für jeden Geschmack. \n  \nHier finden Sie eine Übersicht der Chöre sowie besondere Hinweise. \nBei ungünstiger Witterung wird in den Kursaal ausgewichen. \nDer Eintritt ist frei!
URL:https://www.neuharlingersiel.de/veranstaltung/hafenkonzerte-neuharlingersiel-2/2026-07-12/
CATEGORIES:Konzerte und Musik,Tradition
ATTACH;FMTTYPE=image/jpeg:https://www.neuharlingersiel.de/wp-content/uploads/2024/08/Hafenkonzerte-Neuharlingersiel.jpg
ORGANIZER;CN="Kurverein Neuharlingersiel e.V.":MAILTO:info@neuharlingersiel.de
END:VEVENT
END:VCALENDAR