BEGIN:VCALENDAR
VERSION:2.0
PRODID:-// - ECPv6.15.20//NONSGML v1.0//EN
CALSCALE:GREGORIAN
METHOD:PUBLISH
X-ORIGINAL-URL:https://www.neuharlingersiel.de
X-WR-CALDESC:Veranstaltungen für 
REFRESH-INTERVAL;VALUE=DURATION:PT1H
X-Robots-Tag:noindex
X-PUBLISHED-TTL:PT1H
BEGIN:VTIMEZONE
TZID:Europe/Berlin
BEGIN:DAYLIGHT
TZOFFSETFROM:+0100
TZOFFSETTO:+0200
TZNAME:CEST
DTSTART:20250330T010000
END:DAYLIGHT
BEGIN:STANDARD
TZOFFSETFROM:+0200
TZOFFSETTO:+0100
TZNAME:CET
DTSTART:20251026T010000
END:STANDARD
BEGIN:DAYLIGHT
TZOFFSETFROM:+0100
TZOFFSETTO:+0200
TZNAME:CEST
DTSTART:20260329T010000
END:DAYLIGHT
BEGIN:STANDARD
TZOFFSETFROM:+0200
TZOFFSETTO:+0100
TZNAME:CET
DTSTART:20261025T010000
END:STANDARD
BEGIN:DAYLIGHT
TZOFFSETFROM:+0100
TZOFFSETTO:+0200
TZNAME:CEST
DTSTART:20270328T010000
END:DAYLIGHT
BEGIN:STANDARD
TZOFFSETFROM:+0200
TZOFFSETTO:+0100
TZNAME:CET
DTSTART:20271031T010000
END:STANDARD
END:VTIMEZONE
BEGIN:VEVENT
DTSTART;TZID=Europe/Berlin:20260520T100000
DTEND;TZID=Europe/Berlin:20260520T160000
DTSTAMP:20260424T123350
CREATED:20250103T082741Z
LAST-MODIFIED:20260424T083929Z
UID:10015327-1779271200-1779292800@www.neuharlingersiel.de
SUMMARY:Damen-Sauna im BadeWerk
DESCRIPTION:Den Aufenthalt in der Sauna genießen und bei wohliger Wärme Körper und Geist entspannen\, im Saunagarten Sonne tanken und zwischen den Saunagängen im Sauna-Bistro den Gaumen mit leckeren Köstlichkeiten verwöhnen. \n\n\n\n\n\n\n\n\n\n\n\n\nJeden Mittwoch sind in der Sauna-Landschaft des Thalasso-Zentrum BadeWerk Neuharlingersiel die Damen unter sich. \nNutzen Sie die Gelegenheit für einen entspannten Tag für sich oder verbringen Sie Ihre verdiente Wohlfühlzeit gemeinsam mit Freundinnen\, während wir Sie mit einem abwechslungsreichen Sauna-Aufgussplan verwöhnen. \n  \nWann: Jeden Mittwoch von 10.00 bis 16.00 Uhr \n\n\n\n\n\n\n\n\n\n\nWo: BadeWerk Neuharlingersiel \nPreisinformationen: Eintritt in die Sauna-Landschaft
URL:https://www.neuharlingersiel.de/veranstaltung/damen-sauna-im-badewerk-neuharlingersiel/2026-05-20/
LOCATION:Thalasso-Zentrum BadeWerk Neuharlingersiel\, Edo-Edzards-Str. 1 \, Neuharlingersiel\, 26427
CATEGORIES:BadeWerk
ATTACH;FMTTYPE=image/jpeg:https://www.neuharlingersiel.de/wp-content/uploads/2023/07/Stoever-Sauna.jpg
ORGANIZER;CN="Thalasso-Zentrum BadeWerk Neuharlingersiel":MAILTO:badewerk@neuharlingersiel.de
END:VEVENT
END:VCALENDAR