BEGIN:VCALENDAR
VERSION:2.0
PRODID:-// - ECPv6.15.20//NONSGML v1.0//EN
CALSCALE:GREGORIAN
METHOD:PUBLISH
X-ORIGINAL-URL:https://www.neuharlingersiel.de
X-WR-CALDESC:Veranstaltungen für 
REFRESH-INTERVAL;VALUE=DURATION:PT1H
X-Robots-Tag:noindex
X-PUBLISHED-TTL:PT1H
BEGIN:VTIMEZONE
TZID:Europe/Berlin
BEGIN:DAYLIGHT
TZOFFSETFROM:+0100
TZOFFSETTO:+0200
TZNAME:CEST
DTSTART:20250330T010000
END:DAYLIGHT
BEGIN:STANDARD
TZOFFSETFROM:+0200
TZOFFSETTO:+0100
TZNAME:CET
DTSTART:20251026T010000
END:STANDARD
BEGIN:DAYLIGHT
TZOFFSETFROM:+0100
TZOFFSETTO:+0200
TZNAME:CEST
DTSTART:20260329T010000
END:DAYLIGHT
BEGIN:STANDARD
TZOFFSETFROM:+0200
TZOFFSETTO:+0100
TZNAME:CET
DTSTART:20261025T010000
END:STANDARD
BEGIN:DAYLIGHT
TZOFFSETFROM:+0100
TZOFFSETTO:+0200
TZNAME:CEST
DTSTART:20270328T010000
END:DAYLIGHT
BEGIN:STANDARD
TZOFFSETFROM:+0200
TZOFFSETTO:+0100
TZNAME:CET
DTSTART:20271031T010000
END:STANDARD
END:VTIMEZONE
BEGIN:VEVENT
DTSTART;TZID=Europe/Berlin:20260304T180000
DTEND;TZID=Europe/Berlin:20260304T183000
DTSTAMP:20260419T150033
CREATED:20260228T100026Z
LAST-MODIFIED:20260228T100830Z
UID:10014908-1772647200-1772649000@www.neuharlingersiel.de
SUMMARY:Passionsandachten im Netzschuppen
DESCRIPTION:Mittwoch\, 04. März 2026\n„Das Passahmahl im oberen Saal!“ (Markus 14\, 12 – 31) \nMittwoch\, 11. März 2026\n„Im Garten Gethsemane!“ (Markus 14\, 32 – 52) \nMittwoch\, 18. März 2026\n„Im Palast des Hohenpriesters!“ (Lukas 22\, 54 – 62) \nMittwoch\, 25. März 2026\n„Auf dem Weg nach Golgatha!“ (Lukas 23\, 26 – 32) \nGründonnerstag\, 02. April 2026\n„Golgatha!“ (Johannes 19\, 17 – 27) \n  \nGestaltung der Abende:\n1. Begrüßung mit Gebet!\n2. Gemeinsames Lied!\n3. Kurzer Impuls zum Text! (5 – 8 Min.)\n4. Karte mit Fragen zum Text zum Mitnehmen\n5. Gebet!\n6. Gemeinsames Lied zum Abschluss!\n7. Gebetsanliegen können in ein Körbchen gelegt werden und wir werden sie an unseren Gebetsabenden dann dafür beten.
URL:https://www.neuharlingersiel.de/veranstaltung/passionsandachten-im-netzschuppen/2026-03-04/
LOCATION:Netzschuppen\, Von-Eucken-Weg\, Neuharlingersiel\, 26427\, Deutschland
CATEGORIES:Kirche
ATTACH;FMTTYPE=image/png:https://www.neuharlingersiel.de/wp-content/uploads/2026/02/ChatGPT-Image-21.-Feb.-2026-17_16_17.png
GEO:53.698927055916;7.7043160376232
X-APPLE-STRUCTURED-LOCATION;VALUE=URI;X-ADDRESS=Netzschuppen Von-Eucken-Weg Neuharlingersiel 26427 Deutschland;X-APPLE-RADIUS=500;X-TITLE=Von-Eucken-Weg:geo:7.7043160376232,53.698927055916
END:VEVENT
BEGIN:VEVENT
DTSTART;TZID=Europe/Berlin:20260306T193000
DTEND;TZID=Europe/Berlin:20260306T203000
DTSTAMP:20260419T150033
CREATED:20241219T120300Z
LAST-MODIFIED:20260115T155740Z
UID:10013289-1772825400-1772829000@www.neuharlingersiel.de
SUMMARY:Gebetsstunde
DESCRIPTION:Die Landeskirchliche Gemeinschaft Neuharlingersiel lädt zur Gebetsstunde ein.
URL:https://www.neuharlingersiel.de/veranstaltung/gebetsstunde-1/2026-03-06/
LOCATION:Netzschuppen\, Von-Eucken-Weg\, Neuharlingersiel\, 26427\, Deutschland
CATEGORIES:Kirche
ATTACH;FMTTYPE=image/jpeg:https://www.neuharlingersiel.de/wp-content/uploads/2024/12/Netzschuppen-Aussenaufnahme.jpg
GEO:53.698927055916;7.7043160376232
X-APPLE-STRUCTURED-LOCATION;VALUE=URI;X-ADDRESS=Netzschuppen Von-Eucken-Weg Neuharlingersiel 26427 Deutschland;X-APPLE-RADIUS=500;X-TITLE=Von-Eucken-Weg:geo:7.7043160376232,53.698927055916
END:VEVENT
BEGIN:VEVENT
DTSTART;TZID=Europe/Berlin:20260308T193000
DTEND;TZID=Europe/Berlin:20260308T210000
DTSTAMP:20260419T150033
CREATED:20260113T170249Z
LAST-MODIFIED:20260113T170438Z
UID:10013215-1772998200-1773003600@www.neuharlingersiel.de
SUMMARY:Gemeinsames Singen
DESCRIPTION:Die Landeskirchliche Gemeinschaft in Neuharlingersiel lädt zum gemeinsamen Singen (2. und 4. Sonntag im Monat jeweils um 19.30 Uhr) im Netzschuppen ein.
URL:https://www.neuharlingersiel.de/veranstaltung/gemeinsames-singen-2-sonntag-2/2026-03-08/
LOCATION:Netzschuppen\, Von-Eucken-Weg\, Neuharlingersiel\, 26427\, Deutschland
CATEGORIES:Kirche
ATTACH;FMTTYPE=image/jpeg:https://www.neuharlingersiel.de/wp-content/uploads/2024/12/Netzschuppen-Innenaufnahme.jpg
GEO:53.698927055916;7.7043160376232
X-APPLE-STRUCTURED-LOCATION;VALUE=URI;X-ADDRESS=Netzschuppen Von-Eucken-Weg Neuharlingersiel 26427 Deutschland;X-APPLE-RADIUS=500;X-TITLE=Von-Eucken-Weg:geo:7.7043160376232,53.698927055916
END:VEVENT
END:VCALENDAR