BEGIN:VCALENDAR
VERSION:2.0
PRODID:-// - ECPv6.15.20//NONSGML v1.0//EN
CALSCALE:GREGORIAN
METHOD:PUBLISH
X-ORIGINAL-URL:https://www.neuharlingersiel.de
X-WR-CALDESC:Veranstaltungen für 
REFRESH-INTERVAL;VALUE=DURATION:PT1H
X-Robots-Tag:noindex
X-PUBLISHED-TTL:PT1H
BEGIN:VTIMEZONE
TZID:Europe/Berlin
BEGIN:DAYLIGHT
TZOFFSETFROM:+0100
TZOFFSETTO:+0200
TZNAME:CEST
DTSTART:20240331T010000
END:DAYLIGHT
BEGIN:STANDARD
TZOFFSETFROM:+0200
TZOFFSETTO:+0100
TZNAME:CET
DTSTART:20241027T010000
END:STANDARD
BEGIN:DAYLIGHT
TZOFFSETFROM:+0100
TZOFFSETTO:+0200
TZNAME:CEST
DTSTART:20250330T010000
END:DAYLIGHT
BEGIN:STANDARD
TZOFFSETFROM:+0200
TZOFFSETTO:+0100
TZNAME:CET
DTSTART:20251026T010000
END:STANDARD
BEGIN:DAYLIGHT
TZOFFSETFROM:+0100
TZOFFSETTO:+0200
TZNAME:CEST
DTSTART:20260329T010000
END:DAYLIGHT
BEGIN:STANDARD
TZOFFSETFROM:+0200
TZOFFSETTO:+0100
TZNAME:CET
DTSTART:20261025T010000
END:STANDARD
END:VTIMEZONE
BEGIN:VEVENT
DTSTART;TZID=Europe/Berlin:20251023T080000
DTEND;TZID=Europe/Berlin:20251023T084500
DTSTAMP:20260422T110209
CREATED:20241213T104602Z
LAST-MODIFIED:20250103T084018Z
UID:10007616-1761206400-1761209100@www.neuharlingersiel.de
SUMMARY:Führung durch das BadeWerk Neuharlingersiel
DESCRIPTION:Schwitzstuben mit Nordsee-Feeling\, Meerwasser-Hallenbad oder Wellnessund Kurmittel-Anwendungen im attraktiven Ambiente – bei dieser Führung lernen Sie die verschiedenen Bereiche des Thalasso-Zentrums BadeWerk Neuharlingersiel kennen. \nDas Thalasso-Zentrum BadeWerk Neuharlingersiel wurde bereits zum fünften Mal in Folge mit fünf Medical Wellness Stars ausgezeichnet. \nErfahren Sie\, welche Möglichkeiten für Sie bestehen\, um entspannende Wellness und medizinische Anwendungen perfekt miteinander zu verbinden. \n  \nAnmeldung: Bis zum Vortag im BadeWerk Neuharlingersiel\nTeilnehmer: Mind. 3 Personen\nDauer: Ca. 45 Minuten\nPreis: Kostenfrei\nTreffpunkt: Foyer im BadeWerk Neuharlingersiel
URL:https://www.neuharlingersiel.de/veranstaltung/fuehrung-durch-das-badewerk-in-neuharlingersiel-2/2025-10-23/
LOCATION:Thalasso-Zentrum BadeWerk Neuharlingersiel\, Edo-Edzards-Str. 1 \, Neuharlingersiel\, 26427
CATEGORIES:Ausflüge und Führungen,BadeWerk
ATTACH;FMTTYPE=image/jpeg:https://www.neuharlingersiel.de/wp-content/uploads/2022/03/Fuehrung-durch-das-BadeWerk-Neuharlingersiel.jpg
ORGANIZER;CN="Thalasso-Zentrum BadeWerk Neuharlingersiel":MAILTO:badewerk@neuharlingersiel.de
END:VEVENT
END:VCALENDAR