BEGIN:VCALENDAR
VERSION:2.0
PRODID:-// - ECPv6.15.20//NONSGML v1.0//EN
CALSCALE:GREGORIAN
METHOD:PUBLISH
X-ORIGINAL-URL:https://www.neuharlingersiel.de
X-WR-CALDESC:Veranstaltungen für 
REFRESH-INTERVAL;VALUE=DURATION:PT1H
X-Robots-Tag:noindex
X-PUBLISHED-TTL:PT1H
BEGIN:VTIMEZONE
TZID:Europe/Berlin
BEGIN:DAYLIGHT
TZOFFSETFROM:+0100
TZOFFSETTO:+0200
TZNAME:CEST
DTSTART:20250330T010000
END:DAYLIGHT
BEGIN:STANDARD
TZOFFSETFROM:+0200
TZOFFSETTO:+0100
TZNAME:CET
DTSTART:20251026T010000
END:STANDARD
BEGIN:DAYLIGHT
TZOFFSETFROM:+0100
TZOFFSETTO:+0200
TZNAME:CEST
DTSTART:20260329T010000
END:DAYLIGHT
BEGIN:STANDARD
TZOFFSETFROM:+0200
TZOFFSETTO:+0100
TZNAME:CET
DTSTART:20261025T010000
END:STANDARD
BEGIN:DAYLIGHT
TZOFFSETFROM:+0100
TZOFFSETTO:+0200
TZNAME:CEST
DTSTART:20270328T010000
END:DAYLIGHT
BEGIN:STANDARD
TZOFFSETFROM:+0200
TZOFFSETTO:+0100
TZNAME:CET
DTSTART:20271031T010000
END:STANDARD
END:VTIMEZONE
BEGIN:VEVENT
DTSTART;TZID=Europe/Berlin:20261104T100000
DTEND;TZID=Europe/Berlin:20261104T160000
DTSTAMP:20260425T154059
CREATED:20250103T082741Z
LAST-MODIFIED:20260424T083929Z
UID:10015351-1793786400-1793808000@www.neuharlingersiel.de
SUMMARY:Damen-Sauna im BadeWerk
DESCRIPTION:Den Aufenthalt in der Sauna genießen und bei wohliger Wärme Körper und Geist entspannen\, im Saunagarten Sonne tanken und zwischen den Saunagängen im Sauna-Bistro den Gaumen mit leckeren Köstlichkeiten verwöhnen. \n\n\n\n\n\n\n\n\n\n\n\n\nJeden Mittwoch sind in der Sauna-Landschaft des Thalasso-Zentrum BadeWerk Neuharlingersiel die Damen unter sich. \nNutzen Sie die Gelegenheit für einen entspannten Tag für sich oder verbringen Sie Ihre verdiente Wohlfühlzeit gemeinsam mit Freundinnen\, während wir Sie mit einem abwechslungsreichen Sauna-Aufgussplan verwöhnen. \n  \nWann: Jeden Mittwoch von 10.00 bis 16.00 Uhr \n\n\n\n\n\n\n\n\n\n\nWo: BadeWerk Neuharlingersiel \nPreisinformationen: Eintritt in die Sauna-Landschaft
URL:https://www.neuharlingersiel.de/veranstaltung/damen-sauna-im-badewerk-neuharlingersiel/2026-11-04/
LOCATION:Thalasso-Zentrum BadeWerk Neuharlingersiel\, Edo-Edzards-Str. 1 \, Neuharlingersiel\, 26427
CATEGORIES:BadeWerk
ATTACH;FMTTYPE=image/jpeg:https://www.neuharlingersiel.de/wp-content/uploads/2023/07/Stoever-Sauna.jpg
ORGANIZER;CN="Thalasso-Zentrum BadeWerk Neuharlingersiel":MAILTO:badewerk@neuharlingersiel.de
END:VEVENT
BEGIN:VEVENT
DTSTART;TZID=Europe/Berlin:20261110T170000
DTEND;TZID=Europe/Berlin:20261110T210000
DTSTAMP:20260425T154059
CREATED:20260424T104048Z
LAST-MODIFIED:20260424T104126Z
UID:10015382-1794330000-1794344400@www.neuharlingersiel.de
SUMMARY:Sauna-Schule
DESCRIPTION:Richtig Saunieren will gelernt sein. Damit Ihr Saunagang zum entspannten Vergnügen wird\, schulen wir Sie gern im Umgang mit den vielfältigen Möglichkeiten des Saunierens im BadeWerk Neuharlingersiel. Wir erklären Ihnen\, warum richtiges Saunieren so wohltuend und gesund ist\, wie lang ein Saunagang sein sollte und welche Pausenzeiten Sie bestenfalls einplanen. \nMit unseren geschulten Mitarbeiterinnen und Mitarbeitern besuchen Sie an diesem Abend die Sauna-Landschaft des Thalasso-Zentrums und lernen die einzelnen Bereiche und die Abläufe für einen Saunabesuch kennen. Die Sauna-Schule richtet sich an alle\, die Anfänger im Saunieren sind. \n  \nAnmeldung: Bis zum Vortag im BadeWerk Neuharlingersiel\nTeilnehmer: Mind. 2 Teilnehmer\nPreis: Der Eintritt beträgt 25\,00 Euro
URL:https://www.neuharlingersiel.de/veranstaltung/sauna-schule-2/2026-11-10/
LOCATION:Thalasso-Zentrum BadeWerk Neuharlingersiel\, Edo-Edzards-Str. 1 \, Neuharlingersiel\, 26427
CATEGORIES:BadeWerk
ATTACH;FMTTYPE=image/jpeg:https://www.neuharlingersiel.de/wp-content/uploads/2023/02/Sauna-Schule.jpg
ORGANIZER;CN="Thalasso-Zentrum BadeWerk Neuharlingersiel":MAILTO:badewerk@neuharlingersiel.de
END:VEVENT
BEGIN:VEVENT
DTSTART;TZID=Europe/Berlin:20261111T100000
DTEND;TZID=Europe/Berlin:20261111T160000
DTSTAMP:20260425T154059
CREATED:20250103T082741Z
LAST-MODIFIED:20260424T083929Z
UID:10015352-1794391200-1794412800@www.neuharlingersiel.de
SUMMARY:Damen-Sauna im BadeWerk
DESCRIPTION:Den Aufenthalt in der Sauna genießen und bei wohliger Wärme Körper und Geist entspannen\, im Saunagarten Sonne tanken und zwischen den Saunagängen im Sauna-Bistro den Gaumen mit leckeren Köstlichkeiten verwöhnen. \n\n\n\n\n\n\n\n\n\n\n\n\nJeden Mittwoch sind in der Sauna-Landschaft des Thalasso-Zentrum BadeWerk Neuharlingersiel die Damen unter sich. \nNutzen Sie die Gelegenheit für einen entspannten Tag für sich oder verbringen Sie Ihre verdiente Wohlfühlzeit gemeinsam mit Freundinnen\, während wir Sie mit einem abwechslungsreichen Sauna-Aufgussplan verwöhnen. \n  \nWann: Jeden Mittwoch von 10.00 bis 16.00 Uhr \n\n\n\n\n\n\n\n\n\n\nWo: BadeWerk Neuharlingersiel \nPreisinformationen: Eintritt in die Sauna-Landschaft
URL:https://www.neuharlingersiel.de/veranstaltung/damen-sauna-im-badewerk-neuharlingersiel/2026-11-11/
LOCATION:Thalasso-Zentrum BadeWerk Neuharlingersiel\, Edo-Edzards-Str. 1 \, Neuharlingersiel\, 26427
CATEGORIES:BadeWerk
ATTACH;FMTTYPE=image/jpeg:https://www.neuharlingersiel.de/wp-content/uploads/2023/07/Stoever-Sauna.jpg
ORGANIZER;CN="Thalasso-Zentrum BadeWerk Neuharlingersiel":MAILTO:badewerk@neuharlingersiel.de
END:VEVENT
BEGIN:VEVENT
DTSTART;TZID=Europe/Berlin:20261118T100000
DTEND;TZID=Europe/Berlin:20261118T160000
DTSTAMP:20260425T154059
CREATED:20250103T082741Z
LAST-MODIFIED:20260424T083929Z
UID:10015353-1794996000-1795017600@www.neuharlingersiel.de
SUMMARY:Damen-Sauna im BadeWerk
DESCRIPTION:Den Aufenthalt in der Sauna genießen und bei wohliger Wärme Körper und Geist entspannen\, im Saunagarten Sonne tanken und zwischen den Saunagängen im Sauna-Bistro den Gaumen mit leckeren Köstlichkeiten verwöhnen. \n\n\n\n\n\n\n\n\n\n\n\n\nJeden Mittwoch sind in der Sauna-Landschaft des Thalasso-Zentrum BadeWerk Neuharlingersiel die Damen unter sich. \nNutzen Sie die Gelegenheit für einen entspannten Tag für sich oder verbringen Sie Ihre verdiente Wohlfühlzeit gemeinsam mit Freundinnen\, während wir Sie mit einem abwechslungsreichen Sauna-Aufgussplan verwöhnen. \n  \nWann: Jeden Mittwoch von 10.00 bis 16.00 Uhr \n\n\n\n\n\n\n\n\n\n\nWo: BadeWerk Neuharlingersiel \nPreisinformationen: Eintritt in die Sauna-Landschaft
URL:https://www.neuharlingersiel.de/veranstaltung/damen-sauna-im-badewerk-neuharlingersiel/2026-11-18/
LOCATION:Thalasso-Zentrum BadeWerk Neuharlingersiel\, Edo-Edzards-Str. 1 \, Neuharlingersiel\, 26427
CATEGORIES:BadeWerk
ATTACH;FMTTYPE=image/jpeg:https://www.neuharlingersiel.de/wp-content/uploads/2023/07/Stoever-Sauna.jpg
ORGANIZER;CN="Thalasso-Zentrum BadeWerk Neuharlingersiel":MAILTO:badewerk@neuharlingersiel.de
END:VEVENT
BEGIN:VEVENT
DTSTART;TZID=Europe/Berlin:20261120T180000
DTEND;TZID=Europe/Berlin:20261120T235900
DTSTAMP:20260425T154059
CREATED:20240809T085707Z
LAST-MODIFIED:20260115T142914Z
UID:10013272-1795197600-1795219140@www.neuharlingersiel.de
SUMMARY:Mitternachts-Sauna
DESCRIPTION:Erleben Sie an jedem 3. Freitag im Monat die Mitternachts-Sauna von 18.00 bis 24.00 Uhr im BadeWerk. Dabei erstrahlt die Sauna-Landschaft in einem ganz besonderen Ambiente und sorgt für magische Momente. Außergewöhnliche Aufgüsse und kleine Leckereien lassen Ihren Aufenthalt im BadeWerk zu einem ganz besonderen Erlebnis werden. \nAn diesem Abend ist das Meerwasser-Hallenbad von 20.30 bis 24.00 Uhr für alle Besucher zum FKK-Schwimmen geöffnet und steht Ihnen zum Schwimmen zur Verfügung. Im BadeWerk-Bistro verwöhnt Sie das Team bis 20.45 Uhr mit dem gewohnt umfangreichen Angebot an kalten und warmen Speisen. \nJede Mitternachts-Sauna steht unter einem ganz speziellen Motto\, bei dem wir für kleine Überraschungen und viel Unterhaltung sorgen und Ihnen eine perfekte Wohlfühlzeit bescheren. \nSo wird ein Saunabesuch zu jeder Jahreszeit ein besonderes Erlebnis. Lassen Sie sich überraschen. \nPreisinformation:\nEintritt in die Sauna-Landschaft zzgl. 6\,00 Euro Aufpreis
URL:https://www.neuharlingersiel.de/veranstaltung/mitternachts-sauna/2026-11-20/
LOCATION:Thalasso-Zentrum BadeWerk Neuharlingersiel\, Edo-Edzards-Str. 1 \, Neuharlingersiel\, 26427
CATEGORIES:BadeWerk
ATTACH;FMTTYPE=image/jpeg:https://www.neuharlingersiel.de/wp-content/uploads/2022/04/BadeWerk-Sauna-Aussenbereich-Panorama-Neuharlingersiel.jpg
ORGANIZER;CN="Thalasso-Zentrum BadeWerk Neuharlingersiel":MAILTO:badewerk@neuharlingersiel.de
END:VEVENT
BEGIN:VEVENT
DTSTART;TZID=Europe/Berlin:20261120T203000
DTEND;TZID=Europe/Berlin:20261120T235900
DTSTAMP:20260425T154059
CREATED:20260115T143213Z
LAST-MODIFIED:20260115T143318Z
UID:10013282-1795206600-1795219140@www.neuharlingersiel.de
SUMMARY:Textilfreies Mitternachts-Schwimmen
DESCRIPTION:Freunde der Freikörperkultur und Saunagäste aufgepasst! An jedem dritten Freitag im Monat ist das Meerwasser-Hallenbad für alle Gäste bis 24.00 Uhr zum textilfreien Baden geöffnet. \nGenießen Sie im wohligen Ambiente unser 31 °C warmes Meerwasser\, die Schwalldusche\, Massagedüsen sowie unsere Dampfbäder. \nAn jedem dritten Freitag im Monat.
URL:https://www.neuharlingersiel.de/veranstaltung/textilfreies-mitternachts-schwimmen-2-2/2026-11-20/
LOCATION:Thalasso-Zentrum BadeWerk Neuharlingersiel\, Edo-Edzards-Str. 1 \, Neuharlingersiel\, 26427
CATEGORIES:BadeWerk
ATTACH;FMTTYPE=image/jpeg:https://www.neuharlingersiel.de/wp-content/uploads/2023/03/Textilfreies-Schwimmen.jpg
ORGANIZER;CN="Thalasso-Zentrum BadeWerk Neuharlingersiel":MAILTO:badewerk@neuharlingersiel.de
END:VEVENT
BEGIN:VEVENT
DTSTART;TZID=Europe/Berlin:20261125T100000
DTEND;TZID=Europe/Berlin:20261125T160000
DTSTAMP:20260425T154059
CREATED:20250103T082741Z
LAST-MODIFIED:20260424T083929Z
UID:10015354-1795600800-1795622400@www.neuharlingersiel.de
SUMMARY:Damen-Sauna im BadeWerk
DESCRIPTION:Den Aufenthalt in der Sauna genießen und bei wohliger Wärme Körper und Geist entspannen\, im Saunagarten Sonne tanken und zwischen den Saunagängen im Sauna-Bistro den Gaumen mit leckeren Köstlichkeiten verwöhnen. \n\n\n\n\n\n\n\n\n\n\n\n\nJeden Mittwoch sind in der Sauna-Landschaft des Thalasso-Zentrum BadeWerk Neuharlingersiel die Damen unter sich. \nNutzen Sie die Gelegenheit für einen entspannten Tag für sich oder verbringen Sie Ihre verdiente Wohlfühlzeit gemeinsam mit Freundinnen\, während wir Sie mit einem abwechslungsreichen Sauna-Aufgussplan verwöhnen. \n  \nWann: Jeden Mittwoch von 10.00 bis 16.00 Uhr \n\n\n\n\n\n\n\n\n\n\nWo: BadeWerk Neuharlingersiel \nPreisinformationen: Eintritt in die Sauna-Landschaft
URL:https://www.neuharlingersiel.de/veranstaltung/damen-sauna-im-badewerk-neuharlingersiel/2026-11-25/
LOCATION:Thalasso-Zentrum BadeWerk Neuharlingersiel\, Edo-Edzards-Str. 1 \, Neuharlingersiel\, 26427
CATEGORIES:BadeWerk
ATTACH;FMTTYPE=image/jpeg:https://www.neuharlingersiel.de/wp-content/uploads/2023/07/Stoever-Sauna.jpg
ORGANIZER;CN="Thalasso-Zentrum BadeWerk Neuharlingersiel":MAILTO:badewerk@neuharlingersiel.de
END:VEVENT
END:VCALENDAR