BEGIN:VCALENDAR
VERSION:2.0
PRODID:-// - ECPv6.15.20//NONSGML v1.0//EN
CALSCALE:GREGORIAN
METHOD:PUBLISH
X-ORIGINAL-URL:https://www.neuharlingersiel.de
X-WR-CALDESC:Veranstaltungen für 
REFRESH-INTERVAL;VALUE=DURATION:PT1H
X-Robots-Tag:noindex
X-PUBLISHED-TTL:PT1H
BEGIN:VTIMEZONE
TZID:Europe/Berlin
BEGIN:DAYLIGHT
TZOFFSETFROM:+0100
TZOFFSETTO:+0200
TZNAME:CEST
DTSTART:20250330T010000
END:DAYLIGHT
BEGIN:STANDARD
TZOFFSETFROM:+0200
TZOFFSETTO:+0100
TZNAME:CET
DTSTART:20251026T010000
END:STANDARD
BEGIN:DAYLIGHT
TZOFFSETFROM:+0100
TZOFFSETTO:+0200
TZNAME:CEST
DTSTART:20260329T010000
END:DAYLIGHT
BEGIN:STANDARD
TZOFFSETFROM:+0200
TZOFFSETTO:+0100
TZNAME:CET
DTSTART:20261025T010000
END:STANDARD
BEGIN:DAYLIGHT
TZOFFSETFROM:+0100
TZOFFSETTO:+0200
TZNAME:CEST
DTSTART:20270328T010000
END:DAYLIGHT
BEGIN:STANDARD
TZOFFSETFROM:+0200
TZOFFSETTO:+0100
TZNAME:CET
DTSTART:20271031T010000
END:STANDARD
END:VTIMEZONE
BEGIN:VEVENT
DTSTART;TZID=Europe/Berlin:20260305T150000
DTEND;TZID=Europe/Berlin:20260305T163000
DTSTAMP:20260422T103157
CREATED:20251223T105519Z
LAST-MODIFIED:20260416T104921Z
UID:10012550-1772722800-1772728200@www.neuharlingersiel.de
SUMMARY:Tee und mehr: Echt ostfriesisch…
DESCRIPTION:Das Teetrinken gehört zu den Lieblingsbeschäftigungen der Ostfriesen. Zu keiner Jahreszeit verzichtet man an der Küste auf eine schöne Tasse Tee. \nMindestens dreimal am Tag heißt es: T’is Tee-Tied. \nWir möchten diese Tradition mit Ihnen zelebrieren. Lassen Sie sich überraschen und erfahren Sie\, wie man in Ostfriesland die Zeit anhält und warum der Tee nur bei uns so lecker schmeckt. Bei Tee und einem kleinen Vortrag stellen wir Ihnen in der gemütlichen Atmosphäre des Sielhofes\, auch liebevoll Sielhof-Schlösschen genannt\, auch weitere typisch ostfriesische Gepflogenheiten vor. \n  \nAnmeldung: In der Tourist-Information bis 12.00 Uhr am Veranstaltungstag\nTeilnehmerzahl: Mind. 4 Personen\, max. 18 Personen ab 14 Jahren\nOrt: Im Haus des Gastes im Sielhof\nPreise: Mit Nordsee-ServiceCard 10\,00 €\, ohne Nordsee-ServiceCard 11\,00 €
URL:https://www.neuharlingersiel.de/veranstaltung/tee-und-mehr-echt-ostfriesisch-im-sielhof/2026-03-05/
LOCATION:Haus des Gastes im Sielhof\, Bürgermeister-Dirksen-Platz 8\, Neuharlingersiel\, Niedersachsen\, 26427\, Deutschland
CATEGORIES:Tradition,Vorträge und Lesungen
ATTACH;FMTTYPE=image/jpeg:https://www.neuharlingersiel.de/wp-content/uploads/2021/07/Tee-und-mehr-im-Haus-des-Gastes-Neuharlingersiel.jpg
ORGANIZER;CN="Kurverein Neuharlingersiel e.V.":MAILTO:info@neuharlingersiel.de
END:VEVENT
BEGIN:VEVENT
DTSTART;TZID=Europe/Berlin:20260306T110000
DTEND;TZID=Europe/Berlin:20260306T120000
DTSTAMP:20260422T103157
CREATED:20251223T105211Z
LAST-MODIFIED:20260327T092308Z
UID:10011774-1772794800-1772798400@www.neuharlingersiel.de
SUMMARY:Historische Erlebnisführung im Sielhof
DESCRIPTION:Der Sielhof\, einstiger Herrensitz aus dem 18. Jahrhundert\, gehört zu den ältesten Gebäuden in Neuharlingersiel. Im Inneren spiegelt sich die norddeutsche Wohnkultur aus der Zeit des Rokoko wider. \nBei unserer Sielhof-Führung erfahren Sie Interessantes über die Geschichte des Gebäudes und seiner Bewohner. Sie sehen die verschiedenen Räume des einstigen Herrenhauses\, darunter den Festsaal\, das Wohnzimmer und die Kapelle. Sie erfahren\, wie der Sielhof im Laufe der Jahrhunderte genutzt wurde. \nWarum der Sielhof eine eigene Kapelle besitzt und wie seine vormaligen Bewohner zu ihrem Adelstitel kamen\, erfahren Sie bei dieser Führung. \nIndividuelle Gruppenführungen sind nach Absprache möglich. \nAnmeldung: In der Tourist-Information bis 10.30 Uhr am Tag der Veranstaltung\nTeilnehmer: 5 – 25 Personen\, ab 12 Jahren\nTreffpunkt: Eingang zum Sielhof\nPreise Erwachsene: Mit Nordsee-ServiceCard 7\,00 Euro\, ohne Nordsee-ServiceCard 8\,00 Euro\nPreise Kinder (12 bis 14 Jahre): Mit Nordsee-ServiceCard 4\,00 Euro\, ohne Nordsee-ServiceCard 5\,00 Euro
URL:https://www.neuharlingersiel.de/veranstaltung/historische-erlebnisfuehrung-im-sielhof-2/2026-03-06/
LOCATION:Sielhof Neuharlingersiel\, Bürgermeister-Dirksen-Platz 8\, Neuharlingersiel\, Niedersachsen\, 26427\, Deutschland
CATEGORIES:Ausflüge und Führungen,Tradition
ATTACH;FMTTYPE=image/jpeg:https://www.neuharlingersiel.de/wp-content/uploads/2021/07/Sielhof-Neuharlingersiel.jpg
ORGANIZER;CN="Kurverein Neuharlingersiel e.V.":MAILTO:info@neuharlingersiel.de
END:VEVENT
BEGIN:VEVENT
DTSTART;TZID=Europe/Berlin:20260312T150000
DTEND;TZID=Europe/Berlin:20260312T163000
DTSTAMP:20260422T103157
CREATED:20251223T105519Z
LAST-MODIFIED:20260416T104921Z
UID:10012551-1773327600-1773333000@www.neuharlingersiel.de
SUMMARY:Tee und mehr: Echt ostfriesisch…
DESCRIPTION:Das Teetrinken gehört zu den Lieblingsbeschäftigungen der Ostfriesen. Zu keiner Jahreszeit verzichtet man an der Küste auf eine schöne Tasse Tee. \nMindestens dreimal am Tag heißt es: T’is Tee-Tied. \nWir möchten diese Tradition mit Ihnen zelebrieren. Lassen Sie sich überraschen und erfahren Sie\, wie man in Ostfriesland die Zeit anhält und warum der Tee nur bei uns so lecker schmeckt. Bei Tee und einem kleinen Vortrag stellen wir Ihnen in der gemütlichen Atmosphäre des Sielhofes\, auch liebevoll Sielhof-Schlösschen genannt\, auch weitere typisch ostfriesische Gepflogenheiten vor. \n  \nAnmeldung: In der Tourist-Information bis 12.00 Uhr am Veranstaltungstag\nTeilnehmerzahl: Mind. 4 Personen\, max. 18 Personen ab 14 Jahren\nOrt: Im Haus des Gastes im Sielhof\nPreise: Mit Nordsee-ServiceCard 10\,00 €\, ohne Nordsee-ServiceCard 11\,00 €
URL:https://www.neuharlingersiel.de/veranstaltung/tee-und-mehr-echt-ostfriesisch-im-sielhof/2026-03-12/
LOCATION:Haus des Gastes im Sielhof\, Bürgermeister-Dirksen-Platz 8\, Neuharlingersiel\, Niedersachsen\, 26427\, Deutschland
CATEGORIES:Tradition,Vorträge und Lesungen
ATTACH;FMTTYPE=image/jpeg:https://www.neuharlingersiel.de/wp-content/uploads/2021/07/Tee-und-mehr-im-Haus-des-Gastes-Neuharlingersiel.jpg
ORGANIZER;CN="Kurverein Neuharlingersiel e.V.":MAILTO:info@neuharlingersiel.de
END:VEVENT
BEGIN:VEVENT
DTSTART;TZID=Europe/Berlin:20260313T110000
DTEND;TZID=Europe/Berlin:20260313T120000
DTSTAMP:20260422T103157
CREATED:20251223T105211Z
LAST-MODIFIED:20260327T092308Z
UID:10011775-1773399600-1773403200@www.neuharlingersiel.de
SUMMARY:Historische Erlebnisführung im Sielhof
DESCRIPTION:Der Sielhof\, einstiger Herrensitz aus dem 18. Jahrhundert\, gehört zu den ältesten Gebäuden in Neuharlingersiel. Im Inneren spiegelt sich die norddeutsche Wohnkultur aus der Zeit des Rokoko wider. \nBei unserer Sielhof-Führung erfahren Sie Interessantes über die Geschichte des Gebäudes und seiner Bewohner. Sie sehen die verschiedenen Räume des einstigen Herrenhauses\, darunter den Festsaal\, das Wohnzimmer und die Kapelle. Sie erfahren\, wie der Sielhof im Laufe der Jahrhunderte genutzt wurde. \nWarum der Sielhof eine eigene Kapelle besitzt und wie seine vormaligen Bewohner zu ihrem Adelstitel kamen\, erfahren Sie bei dieser Führung. \nIndividuelle Gruppenführungen sind nach Absprache möglich. \nAnmeldung: In der Tourist-Information bis 10.30 Uhr am Tag der Veranstaltung\nTeilnehmer: 5 – 25 Personen\, ab 12 Jahren\nTreffpunkt: Eingang zum Sielhof\nPreise Erwachsene: Mit Nordsee-ServiceCard 7\,00 Euro\, ohne Nordsee-ServiceCard 8\,00 Euro\nPreise Kinder (12 bis 14 Jahre): Mit Nordsee-ServiceCard 4\,00 Euro\, ohne Nordsee-ServiceCard 5\,00 Euro
URL:https://www.neuharlingersiel.de/veranstaltung/historische-erlebnisfuehrung-im-sielhof-2/2026-03-13/
LOCATION:Sielhof Neuharlingersiel\, Bürgermeister-Dirksen-Platz 8\, Neuharlingersiel\, Niedersachsen\, 26427\, Deutschland
CATEGORIES:Ausflüge und Führungen,Tradition
ATTACH;FMTTYPE=image/jpeg:https://www.neuharlingersiel.de/wp-content/uploads/2021/07/Sielhof-Neuharlingersiel.jpg
ORGANIZER;CN="Kurverein Neuharlingersiel e.V.":MAILTO:info@neuharlingersiel.de
END:VEVENT
BEGIN:VEVENT
DTSTART;TZID=Europe/Berlin:20260319T150000
DTEND;TZID=Europe/Berlin:20260319T163000
DTSTAMP:20260422T103157
CREATED:20251223T105519Z
LAST-MODIFIED:20260416T104921Z
UID:10012552-1773932400-1773937800@www.neuharlingersiel.de
SUMMARY:Tee und mehr: Echt ostfriesisch…
DESCRIPTION:Das Teetrinken gehört zu den Lieblingsbeschäftigungen der Ostfriesen. Zu keiner Jahreszeit verzichtet man an der Küste auf eine schöne Tasse Tee. \nMindestens dreimal am Tag heißt es: T’is Tee-Tied. \nWir möchten diese Tradition mit Ihnen zelebrieren. Lassen Sie sich überraschen und erfahren Sie\, wie man in Ostfriesland die Zeit anhält und warum der Tee nur bei uns so lecker schmeckt. Bei Tee und einem kleinen Vortrag stellen wir Ihnen in der gemütlichen Atmosphäre des Sielhofes\, auch liebevoll Sielhof-Schlösschen genannt\, auch weitere typisch ostfriesische Gepflogenheiten vor. \n  \nAnmeldung: In der Tourist-Information bis 12.00 Uhr am Veranstaltungstag\nTeilnehmerzahl: Mind. 4 Personen\, max. 18 Personen ab 14 Jahren\nOrt: Im Haus des Gastes im Sielhof\nPreise: Mit Nordsee-ServiceCard 10\,00 €\, ohne Nordsee-ServiceCard 11\,00 €
URL:https://www.neuharlingersiel.de/veranstaltung/tee-und-mehr-echt-ostfriesisch-im-sielhof/2026-03-19/
LOCATION:Haus des Gastes im Sielhof\, Bürgermeister-Dirksen-Platz 8\, Neuharlingersiel\, Niedersachsen\, 26427\, Deutschland
CATEGORIES:Tradition,Vorträge und Lesungen
ATTACH;FMTTYPE=image/jpeg:https://www.neuharlingersiel.de/wp-content/uploads/2021/07/Tee-und-mehr-im-Haus-des-Gastes-Neuharlingersiel.jpg
ORGANIZER;CN="Kurverein Neuharlingersiel e.V.":MAILTO:info@neuharlingersiel.de
END:VEVENT
BEGIN:VEVENT
DTSTART;TZID=Europe/Berlin:20260320T110000
DTEND;TZID=Europe/Berlin:20260320T120000
DTSTAMP:20260422T103157
CREATED:20251223T105211Z
LAST-MODIFIED:20260327T092308Z
UID:10011776-1774004400-1774008000@www.neuharlingersiel.de
SUMMARY:Historische Erlebnisführung im Sielhof
DESCRIPTION:Der Sielhof\, einstiger Herrensitz aus dem 18. Jahrhundert\, gehört zu den ältesten Gebäuden in Neuharlingersiel. Im Inneren spiegelt sich die norddeutsche Wohnkultur aus der Zeit des Rokoko wider. \nBei unserer Sielhof-Führung erfahren Sie Interessantes über die Geschichte des Gebäudes und seiner Bewohner. Sie sehen die verschiedenen Räume des einstigen Herrenhauses\, darunter den Festsaal\, das Wohnzimmer und die Kapelle. Sie erfahren\, wie der Sielhof im Laufe der Jahrhunderte genutzt wurde. \nWarum der Sielhof eine eigene Kapelle besitzt und wie seine vormaligen Bewohner zu ihrem Adelstitel kamen\, erfahren Sie bei dieser Führung. \nIndividuelle Gruppenführungen sind nach Absprache möglich. \nAnmeldung: In der Tourist-Information bis 10.30 Uhr am Tag der Veranstaltung\nTeilnehmer: 5 – 25 Personen\, ab 12 Jahren\nTreffpunkt: Eingang zum Sielhof\nPreise Erwachsene: Mit Nordsee-ServiceCard 7\,00 Euro\, ohne Nordsee-ServiceCard 8\,00 Euro\nPreise Kinder (12 bis 14 Jahre): Mit Nordsee-ServiceCard 4\,00 Euro\, ohne Nordsee-ServiceCard 5\,00 Euro
URL:https://www.neuharlingersiel.de/veranstaltung/historische-erlebnisfuehrung-im-sielhof-2/2026-03-20/
LOCATION:Sielhof Neuharlingersiel\, Bürgermeister-Dirksen-Platz 8\, Neuharlingersiel\, Niedersachsen\, 26427\, Deutschland
CATEGORIES:Ausflüge und Führungen,Tradition
ATTACH;FMTTYPE=image/jpeg:https://www.neuharlingersiel.de/wp-content/uploads/2021/07/Sielhof-Neuharlingersiel.jpg
ORGANIZER;CN="Kurverein Neuharlingersiel e.V.":MAILTO:info@neuharlingersiel.de
END:VEVENT
BEGIN:VEVENT
DTSTART;TZID=Europe/Berlin:20260328T130000
DTEND;TZID=Europe/Berlin:20260328T170000
DTSTAMP:20260422T103157
CREATED:20250327T092008Z
LAST-MODIFIED:20260326T134555Z
UID:10015166-1774702800-1774717200@www.neuharlingersiel.de
SUMMARY:Scheunenflohmarkt
DESCRIPTION:Auf dem gepflegten Scheunenflohmarkt in der Seriemer Mühle finden Sie viele schöne und nützliche Dinge. \nStöbern und entdecken Sie zum Beispiel Geschirr\, Gläser\, Dekoartikel\, Bücher\, Schallplatten\, DVD´s\, Bilder und vieles mehr. Lassen Sie sich überraschen. \nWährend der Saison wird für Sie Weizen\, Dinkel\, Roggen und Buchweizen gemahlen. Das Mehl wird an den Flohmarktterminen zugunsten der Mühle und der Scheune verkauft. Bitte haben Sie Verständnis dafür\, dass das Mehl auch mal ausverkauft sein kann. \n  \n  \nTipp: Die Seriemer Mühle ist täglich in der Zeit von 10.00 bis mindestens 18.00 Uhr\, in der dunkleren Jahreszeit bis 16.00 Uhr\, für Besichtigungen geöffnet. \nDer Besuch ist kostenlos\, der Mühlenverein „DE GOEDE VERWAGTING e.V.“ freut sich jedoch über jede Spende für den Erhalt der Mühle und der Scheune. \n 
URL:https://www.neuharlingersiel.de/veranstaltung/scheunenflohmarkt-2/2026-03-28/
LOCATION:Seriemer Mühle\, Seriemer Mühle 2\, Neuharlingersiel\, Niedersachsen\, 26427\, Deutschland
CATEGORIES:Ausflüge und Führungen,Feste und Märkte,Tradition
ATTACH;FMTTYPE=image/jpeg:https://www.neuharlingersiel.de/wp-content/uploads/2024/03/Scheunen-Flohmarkt-Seriemer-Muehle.jpg
ORGANIZER;CN="M%C3%BChlenverein 'De Goede Verwagting e.V.'":MAILTO:vorstand@muehlenverein-online.de
END:VEVENT
BEGIN:VEVENT
DTSTART;TZID=Europe/Berlin:20260331T190000
DTEND;TZID=Europe/Berlin:20260331T200000
DTSTAMP:20260422T103157
CREATED:20240321T115436Z
LAST-MODIFIED:20251230T150425Z
UID:10012308-1774983600-1774987200@www.neuharlingersiel.de
SUMMARY:DGzRS-Vortrag „Wir kommen...“
DESCRIPTION:Ein Mitarbeiter der Seenotretter berichtet an diesem Abend im Seminarraum der Tourist-Info über die Aufgaben der Deutschen Gesellschaft zur Rettung Schiffbrüchiger – kurz DGzRS. Außerdem erzählt er von ihren Einsätzen und gibt Einblicke in die Geschichte der Seenotrettung. \nKommen Sie vorbei und lassen Sie sich von der Arbeit der Seenotretter begeistern! \nDer Vortrag ist kostenlos und für alle Altersgruppen geeignet. Um eine Spende zur Unterstützung der Seenotretter wird gebeten.\n \n 
URL:https://www.neuharlingersiel.de/veranstaltung/dgzrs-vortrag-wir-kommen/2026-03-31/
LOCATION:Seminarraum in Neuharlingersiel\, Edo-Edzards-Straße 1\, Neuharlingersiel\, Neuharlingersiel\, 26427\, Deutschland
CATEGORIES:Tradition,Vorträge und Lesungen
ATTACH;FMTTYPE=image/jpeg:https://www.neuharlingersiel.de/wp-content/uploads/2023/02/Seenotrettungsboot-COURAGE-Foto-Die-Seenotretter-DGzRS.jpg
END:VEVENT
END:VCALENDAR