BEGIN:VCALENDAR
VERSION:2.0
PRODID:-// - ECPv6.15.20//NONSGML v1.0//EN
CALSCALE:GREGORIAN
METHOD:PUBLISH
X-ORIGINAL-URL:https://www.neuharlingersiel.de
X-WR-CALDESC:Veranstaltungen für 
REFRESH-INTERVAL;VALUE=DURATION:PT1H
X-Robots-Tag:noindex
X-PUBLISHED-TTL:PT1H
BEGIN:VTIMEZONE
TZID:Europe/Berlin
BEGIN:DAYLIGHT
TZOFFSETFROM:+0100
TZOFFSETTO:+0200
TZNAME:CEST
DTSTART:20250330T010000
END:DAYLIGHT
BEGIN:STANDARD
TZOFFSETFROM:+0200
TZOFFSETTO:+0100
TZNAME:CET
DTSTART:20251026T010000
END:STANDARD
BEGIN:DAYLIGHT
TZOFFSETFROM:+0100
TZOFFSETTO:+0200
TZNAME:CEST
DTSTART:20260329T010000
END:DAYLIGHT
BEGIN:STANDARD
TZOFFSETFROM:+0200
TZOFFSETTO:+0100
TZNAME:CET
DTSTART:20261025T010000
END:STANDARD
BEGIN:DAYLIGHT
TZOFFSETFROM:+0100
TZOFFSETTO:+0200
TZNAME:CEST
DTSTART:20270328T010000
END:DAYLIGHT
BEGIN:STANDARD
TZOFFSETFROM:+0200
TZOFFSETTO:+0100
TZNAME:CET
DTSTART:20271031T010000
END:STANDARD
BEGIN:DAYLIGHT
TZOFFSETFROM:+0100
TZOFFSETTO:+0200
TZNAME:CEST
DTSTART:20280326T010000
END:DAYLIGHT
BEGIN:STANDARD
TZOFFSETFROM:+0200
TZOFFSETTO:+0100
TZNAME:CET
DTSTART:20281029T010000
END:STANDARD
END:VTIMEZONE
BEGIN:VEVENT
DTSTART;TZID=Europe/Berlin:20260501T193000
DTEND;TZID=Europe/Berlin:20260501T203000
DTSTAMP:20260422T140527
CREATED:20241219T120300Z
LAST-MODIFIED:20260115T155740Z
UID:10013291-1777663800-1777667400@www.neuharlingersiel.de
SUMMARY:Gebetsstunde
DESCRIPTION:Die Landeskirchliche Gemeinschaft Neuharlingersiel lädt zur Gebetsstunde ein.
URL:https://www.neuharlingersiel.de/veranstaltung/gebetsstunde-1/2026-05-01/
LOCATION:Netzschuppen\, Von-Eucken-Weg\, Neuharlingersiel\, 26427\, Deutschland
CATEGORIES:Kirche
ATTACH;FMTTYPE=image/jpeg:https://www.neuharlingersiel.de/wp-content/uploads/2024/12/Netzschuppen-Aussenaufnahme.jpg
GEO:53.698927055916;7.7043160376232
X-APPLE-STRUCTURED-LOCATION;VALUE=URI;X-ADDRESS=Netzschuppen Von-Eucken-Weg Neuharlingersiel 26427 Deutschland;X-APPLE-RADIUS=500;X-TITLE=Von-Eucken-Weg:geo:7.7043160376232,53.698927055916
END:VEVENT
BEGIN:VEVENT
DTSTART;TZID=Europe/Berlin:20260605T193000
DTEND;TZID=Europe/Berlin:20260605T203000
DTSTAMP:20260422T140527
CREATED:20241219T120300Z
LAST-MODIFIED:20260115T155740Z
UID:10013292-1780687800-1780691400@www.neuharlingersiel.de
SUMMARY:Gebetsstunde
DESCRIPTION:Die Landeskirchliche Gemeinschaft Neuharlingersiel lädt zur Gebetsstunde ein.
URL:https://www.neuharlingersiel.de/veranstaltung/gebetsstunde-1/2026-06-05/
LOCATION:Netzschuppen\, Von-Eucken-Weg\, Neuharlingersiel\, 26427\, Deutschland
CATEGORIES:Kirche
ATTACH;FMTTYPE=image/jpeg:https://www.neuharlingersiel.de/wp-content/uploads/2024/12/Netzschuppen-Aussenaufnahme.jpg
GEO:53.698927055916;7.7043160376232
X-APPLE-STRUCTURED-LOCATION;VALUE=URI;X-ADDRESS=Netzschuppen Von-Eucken-Weg Neuharlingersiel 26427 Deutschland;X-APPLE-RADIUS=500;X-TITLE=Von-Eucken-Weg:geo:7.7043160376232,53.698927055916
END:VEVENT
BEGIN:VEVENT
DTSTART;TZID=Europe/Berlin:20260703T193000
DTEND;TZID=Europe/Berlin:20260703T203000
DTSTAMP:20260422T140527
CREATED:20241219T120300Z
LAST-MODIFIED:20260115T155740Z
UID:10013293-1783107000-1783110600@www.neuharlingersiel.de
SUMMARY:Gebetsstunde
DESCRIPTION:Die Landeskirchliche Gemeinschaft Neuharlingersiel lädt zur Gebetsstunde ein.
URL:https://www.neuharlingersiel.de/veranstaltung/gebetsstunde-1/2026-07-03/
LOCATION:Netzschuppen\, Von-Eucken-Weg\, Neuharlingersiel\, 26427\, Deutschland
CATEGORIES:Kirche
ATTACH;FMTTYPE=image/jpeg:https://www.neuharlingersiel.de/wp-content/uploads/2024/12/Netzschuppen-Aussenaufnahme.jpg
GEO:53.698927055916;7.7043160376232
X-APPLE-STRUCTURED-LOCATION;VALUE=URI;X-ADDRESS=Netzschuppen Von-Eucken-Weg Neuharlingersiel 26427 Deutschland;X-APPLE-RADIUS=500;X-TITLE=Von-Eucken-Weg:geo:7.7043160376232,53.698927055916
END:VEVENT
BEGIN:VEVENT
DTSTART;TZID=Europe/Berlin:20260807T193000
DTEND;TZID=Europe/Berlin:20260807T203000
DTSTAMP:20260422T140527
CREATED:20241219T120300Z
LAST-MODIFIED:20260115T155740Z
UID:10013294-1786131000-1786134600@www.neuharlingersiel.de
SUMMARY:Gebetsstunde
DESCRIPTION:Die Landeskirchliche Gemeinschaft Neuharlingersiel lädt zur Gebetsstunde ein.
URL:https://www.neuharlingersiel.de/veranstaltung/gebetsstunde-1/2026-08-07/
LOCATION:Netzschuppen\, Von-Eucken-Weg\, Neuharlingersiel\, 26427\, Deutschland
CATEGORIES:Kirche
ATTACH;FMTTYPE=image/jpeg:https://www.neuharlingersiel.de/wp-content/uploads/2024/12/Netzschuppen-Aussenaufnahme.jpg
GEO:53.698927055916;7.7043160376232
X-APPLE-STRUCTURED-LOCATION;VALUE=URI;X-ADDRESS=Netzschuppen Von-Eucken-Weg Neuharlingersiel 26427 Deutschland;X-APPLE-RADIUS=500;X-TITLE=Von-Eucken-Weg:geo:7.7043160376232,53.698927055916
END:VEVENT
BEGIN:VEVENT
DTSTART;TZID=Europe/Berlin:20260904T193000
DTEND;TZID=Europe/Berlin:20260904T203000
DTSTAMP:20260422T140527
CREATED:20241219T120300Z
LAST-MODIFIED:20260115T155740Z
UID:10013295-1788550200-1788553800@www.neuharlingersiel.de
SUMMARY:Gebetsstunde
DESCRIPTION:Die Landeskirchliche Gemeinschaft Neuharlingersiel lädt zur Gebetsstunde ein.
URL:https://www.neuharlingersiel.de/veranstaltung/gebetsstunde-1/2026-09-04/
LOCATION:Netzschuppen\, Von-Eucken-Weg\, Neuharlingersiel\, 26427\, Deutschland
CATEGORIES:Kirche
ATTACH;FMTTYPE=image/jpeg:https://www.neuharlingersiel.de/wp-content/uploads/2024/12/Netzschuppen-Aussenaufnahme.jpg
GEO:53.698927055916;7.7043160376232
X-APPLE-STRUCTURED-LOCATION;VALUE=URI;X-ADDRESS=Netzschuppen Von-Eucken-Weg Neuharlingersiel 26427 Deutschland;X-APPLE-RADIUS=500;X-TITLE=Von-Eucken-Weg:geo:7.7043160376232,53.698927055916
END:VEVENT
BEGIN:VEVENT
DTSTART;TZID=Europe/Berlin:20261002T193000
DTEND;TZID=Europe/Berlin:20261002T203000
DTSTAMP:20260422T140527
CREATED:20241219T120300Z
LAST-MODIFIED:20260115T155740Z
UID:10013296-1790969400-1790973000@www.neuharlingersiel.de
SUMMARY:Gebetsstunde
DESCRIPTION:Die Landeskirchliche Gemeinschaft Neuharlingersiel lädt zur Gebetsstunde ein.
URL:https://www.neuharlingersiel.de/veranstaltung/gebetsstunde-1/2026-10-02/
LOCATION:Netzschuppen\, Von-Eucken-Weg\, Neuharlingersiel\, 26427\, Deutschland
CATEGORIES:Kirche
ATTACH;FMTTYPE=image/jpeg:https://www.neuharlingersiel.de/wp-content/uploads/2024/12/Netzschuppen-Aussenaufnahme.jpg
GEO:53.698927055916;7.7043160376232
X-APPLE-STRUCTURED-LOCATION;VALUE=URI;X-ADDRESS=Netzschuppen Von-Eucken-Weg Neuharlingersiel 26427 Deutschland;X-APPLE-RADIUS=500;X-TITLE=Von-Eucken-Weg:geo:7.7043160376232,53.698927055916
END:VEVENT
BEGIN:VEVENT
DTSTART;TZID=Europe/Berlin:20261106T193000
DTEND;TZID=Europe/Berlin:20261106T203000
DTSTAMP:20260422T140527
CREATED:20241219T120300Z
LAST-MODIFIED:20260115T155740Z
UID:10013297-1793993400-1793997000@www.neuharlingersiel.de
SUMMARY:Gebetsstunde
DESCRIPTION:Die Landeskirchliche Gemeinschaft Neuharlingersiel lädt zur Gebetsstunde ein.
URL:https://www.neuharlingersiel.de/veranstaltung/gebetsstunde-1/2026-11-06/
LOCATION:Netzschuppen\, Von-Eucken-Weg\, Neuharlingersiel\, 26427\, Deutschland
CATEGORIES:Kirche
ATTACH;FMTTYPE=image/jpeg:https://www.neuharlingersiel.de/wp-content/uploads/2024/12/Netzschuppen-Aussenaufnahme.jpg
GEO:53.698927055916;7.7043160376232
X-APPLE-STRUCTURED-LOCATION;VALUE=URI;X-ADDRESS=Netzschuppen Von-Eucken-Weg Neuharlingersiel 26427 Deutschland;X-APPLE-RADIUS=500;X-TITLE=Von-Eucken-Weg:geo:7.7043160376232,53.698927055916
END:VEVENT
BEGIN:VEVENT
DTSTART;TZID=Europe/Berlin:20261204T193000
DTEND;TZID=Europe/Berlin:20261204T203000
DTSTAMP:20260422T140527
CREATED:20241219T120300Z
LAST-MODIFIED:20260115T155740Z
UID:10013298-1796412600-1796416200@www.neuharlingersiel.de
SUMMARY:Gebetsstunde
DESCRIPTION:Die Landeskirchliche Gemeinschaft Neuharlingersiel lädt zur Gebetsstunde ein.
URL:https://www.neuharlingersiel.de/veranstaltung/gebetsstunde-1/2026-12-04/
LOCATION:Netzschuppen\, Von-Eucken-Weg\, Neuharlingersiel\, 26427\, Deutschland
CATEGORIES:Kirche
ATTACH;FMTTYPE=image/jpeg:https://www.neuharlingersiel.de/wp-content/uploads/2024/12/Netzschuppen-Aussenaufnahme.jpg
GEO:53.698927055916;7.7043160376232
X-APPLE-STRUCTURED-LOCATION;VALUE=URI;X-ADDRESS=Netzschuppen Von-Eucken-Weg Neuharlingersiel 26427 Deutschland;X-APPLE-RADIUS=500;X-TITLE=Von-Eucken-Weg:geo:7.7043160376232,53.698927055916
END:VEVENT
BEGIN:VEVENT
DTSTART;TZID=Europe/Berlin:20270101T193000
DTEND;TZID=Europe/Berlin:20270101T203000
DTSTAMP:20260422T140527
CREATED:20241219T120300Z
LAST-MODIFIED:20260115T155740Z
UID:10013299-1798831800-1798835400@www.neuharlingersiel.de
SUMMARY:Gebetsstunde
DESCRIPTION:Die Landeskirchliche Gemeinschaft Neuharlingersiel lädt zur Gebetsstunde ein.
URL:https://www.neuharlingersiel.de/veranstaltung/gebetsstunde-1/2027-01-01/
LOCATION:Netzschuppen\, Von-Eucken-Weg\, Neuharlingersiel\, 26427\, Deutschland
CATEGORIES:Kirche
ATTACH;FMTTYPE=image/jpeg:https://www.neuharlingersiel.de/wp-content/uploads/2024/12/Netzschuppen-Aussenaufnahme.jpg
GEO:53.698927055916;7.7043160376232
X-APPLE-STRUCTURED-LOCATION;VALUE=URI;X-ADDRESS=Netzschuppen Von-Eucken-Weg Neuharlingersiel 26427 Deutschland;X-APPLE-RADIUS=500;X-TITLE=Von-Eucken-Weg:geo:7.7043160376232,53.698927055916
END:VEVENT
END:VCALENDAR